BEGIN:VCALENDAR
VERSION:2.0
BEGIN:VEVENT
UID:4B79B8B7-04D2-459D-B7DA-74211D0A23DD
DTSTART:20260502T100000Z
DTEND:20260502T130000Z
SUMMARY:National Pilates Day Event
DESCRIPTION:Let’s celebrate National Pilates Day the SESSION way! ???? \n
   \nSESSION Pilates invites you to join us at Griggs Park for a morning de
 signed to move your body\, connect with community\, and leave you feeling
  fully aligned. \n  \nThis special community experience begins with a sign
 ature SESSION mat Pilates class—our 50-minute\, beat-based method designed
  to lengthen\, strengthen\, and challenge you in all the right ways (yes\,
  the shakes are part of it). Set in the heart of Dallas\, this outdoor eve
 nt is a chance to experience the energy of SESSION in a fun\, accessible\,
  and community-driven way. \n  \nAfter class\, guests are invited to stay
  and enjoy a curated post-class experience featuring local vendors and act
 ivations centered around wellness\, recovery\, and community. It’s the per
 fect way to celebrate movement\, discover new favorite brands\, and spend
  the morning with people in our community.  \n  \n✨ Even better— 100% of p
 roceeds from this event will benefit Momentous Institute\, a nonprofit ded
 icated to building and repairing social-emotional health for children and
  families. \n  \n???? Ticket includes: mat class + access to vendors and a
 ctivations \n❗️Bring your own mat \n  \nSESSION Pilates is a reformer Pila
 tes studio built for a full mind-and-body reset. Known for its signature 5
 0-minute\, beat-based method\, SESSION blends music-driven energy with sea
 mless\, high-intensity flow that has earned both local and national recogn
 ition — “Best Fitness Studio” by ClassPass. For this community event\, the
 y’ll be teaching a mat Pilates version to give you a taste of what the obS
 ESSION is all about.  \n  \nDoors open at 9:45 AM. Don’t forget: bring you
 r own yoga mat! ???? \nPurchase tickets here: https://www.zeffy.com/en-US/
 ticketing/dallas-national-pilates-day\nGriggs Park\n2200 Hugo St\nDallas\,
  TX 75204 United States\n
LOCATION:2200 Hugo St\, Dallas\, TX 75204
URL:http://parkcities.bubblelife.com/community/session_pilates/library/3554
 800884/key/3511778904/National_Pilates_Day_Event
CREATED:20260420T160800Z
LAST-MODIFIED:20260420T160800Z
DTSTAMP:20260423T032510Z
CLASS:PUBLIC
STATUS:CONFIRMED
TRANSP:TRANSPARENT
SEQUENCE:1
END:VEVENT
END:VCALENDAR
