BEGIN:VCALENDAR
VERSION:2.0
BEGIN:VEVENT
UID:84E995A6-5060-4F53-9FE5-E4F37A9A00C3
DTSTART:20230603T200000Z
DTEND:20230604T020000Z
SUMMARY:Revelers Hall presents Gemini Disco
DESCRIPTION:Calling all Gemini babies! Head to  Revelers Hall  on Saturday
  June 3\, 8 PM till 2 AM for  GEMINI DISCO  - a celebration of anyone with
  a birthday between May 21-June 21. From 8 PM to Midnight\,  Celestial Clo
 ckwork  will perform music through the 70s\, 80s\, and 90s and from Midnig
 ht to 2 AM\,  DJ Dezi 5  will keep the crowd vibing. See what 2023 has in
  store for you when you sit down with their Astrologer who provide tarot c
 ard readings for $20.  While there is no cost at the door\, a $6 music fee
  will be added to your tab to compensate the musicians.   Guests can enjoy
  a full bar featuring a selection of beer\, wine and mixed and frozen drin
 ks.  Menu selections  include a selection of flatbreads\, cheese and charc
 uterie boards\, and dips from 4 PM to 11 PM nightly. Revelers Hall offers
  indoor and outdoor seating and is located at  412 N.Bishop Avenue\, Dalla
 s\, TX 75208.\nRevelers Hall\n412 N.Bishop Avenue\nDallas\, TX 75208 Unite
 d States\n
LOCATION:412 N.Bishop Avenue\, Dallas\, TX 75208
URL:http://parkcities.bubblelife.com/community/gangway_advertising/library/
 35882654/key/3511955962/Revelers_Hall_presents_Gemini_Disco
CREATED:20230601T161805Z
LAST-MODIFIED:20230601T161805Z
DTSTAMP:20260424T075514Z
CLASS:PUBLIC
STATUS:CONFIRMED
TRANSP:TRANSPARENT
SEQUENCE:1
END:VEVENT
END:VCALENDAR
