BEGIN:VCALENDAR
VERSION:2.0
BEGIN:VEVENT
UID:69F17ED6-AC78-428A-9864-BF09CE87E86F
DTSTART:20230423T140000Z
DTEND:20230423T180000Z
SUMMARY:Centennial Community Celebration
DESCRIPTION:This free-to-the-public event will highlight and celebrate our
  great city\, state and local organizations. Live performances by local cu
 ltural groups and artists\, specially curated exhibit from the Dallas Hist
 orical Society Collection\, Fun Dallas Pop Ups and Activities\, Games and
  Giveaways\, Dallas’ Best Food Trucks. \n Run of Show beginning at 2:00 p.
 m.: \n* Welcome by Pegasus Bank and Dallas Historical Society Video * Olli
 mpaxqui Ballet Company: 30-minute workshop immediately following their per
 formance * Booker T. Washington High School for the Performing and Visual
  Arts: Mimes and dance performances. \n* Welcome by Pegasus Bank and Dalla
 s Historical Society Video \n* South Dallas Concert Choir \n* Dallas Inter
 national Film Festival \n* Cara Mia Theater: 30-minute workshop immediatel
 y following their performance \n* Welcome by Pegasus Bank and Dallas Histo
 rical Society Video \n* Broadway Dallas \n* Closing: Karl Chiao\, Executiv
 e Director\, Dallas Historical Society \n Booths: * African American Museu
 m of Dallas * Booker T. Washington High School for the Performing and Visu
 al Arts:  Mimes and Face Painters * Broadway Dallas * Café Momentum * City
  of Dallas Office of Arts and Culture * Dallas Childrens Aquarium will hav
 e a reptile exhibit * Dallas Historical Society Centennial exhibit * Dalla
 s International Film Festival * Dallas Police Department * Denton County O
 ffice of History and Culture * Fair Park First * Fletchers Original Corny
  Dogs * Frisco Roughriders * Little Big Tex will be making a live appearan
 ce * Old City Park will feature a craft * Plano Heritage Farmstead will ha
 ve a traveling trunk featuring historical items * Texas Rangers Division a
 nd Department of Public Safety will have a traveling trunk featuring histo
 rical items \n Upcoming Events: Thursday\, November 16\, 2023:  Dallas His
 torical Society’s Annual Dallas History Makers Luncheon (formerly Awards f
 or Excellence Luncheon) \n The Dallas Historical Society: Whether someone
  is new to Dallas or a native Texan\, the Dallas Historical Society offers
  programs and exhibits that educates and informs visitors about their home
  city and reveals insights and little-known facts that one might be unable
  to grasp from history books alone\, especially with the museum’s newest p
 ermanent exhibit. Ongoing events include brown bag lectures\, Evening With
  programs\, and the Deep Vellum series along with the very special exhibit
  honoring Texas’ independence\, the interactive Texas Liberty Forever: The
  Battle of the Alamo diorama by Tom Feely. Join in discovering more about
  Dallas and take part in one or more of these wonderful programs. Visit th
 e website for more information at www.dallashistory.org \n The Dallas Hist
 orical Society: Celebrating Its Centennial Year In 2022 \nThe stories of D
 allas are shared each day at the Dallas Historical Society through the thr
 ee million items that comprise our archives and artifact collections. Esta
 blished in 1922\, the Dallas Historical Society collects\, preserves\, and
  exhibits the unique heritage of Dallas and Texas to educate and inspire f
 uture generations. \nHoused at the Hall of State in Fair Park since 1938\,
  DHS presents these collections through education programs\, exhibitions\,
  tours\, access to research materials and workshops.  \nAmong the three mi
 llion historical artifacts at DHS are such treasures as Sam Houston’s hand
 written account of the Battle of San Jacinto\, the only known original Jun
 eteenth document\, James Fannin’s watch\, and Santa Anna’s spurs. The DHS
  collection houses over 10\,000 bound volumes and receives more than 1\,50
 0 research requests annually. \n  \nEach year\, the Dallas Historical Soci
 ety is visited by over 160\,000 people and serves more than 20\,000 studen
 ts through guided tours and educational programming at the Hall of State\,
  as well as outreach programs at schools. Visit the website for more infor
 mation at www.dallashistory.org\nKlyde Warren Park\n2012 Woodall Rodgers F
 wy\nDallas\, TX 75201 United States\n
LOCATION:2012 Woodall Rodgers Fwy\, Dallas\, TX 75201
URL:http://parkcities.bubblelife.com/community/parkcities_calendar/library/
 3560452/key/3511942632/Centennial_Community_Celebration
CREATED:20230414T204547Z
LAST-MODIFIED:20230414T204547Z
DTSTAMP:20260421T003216Z
CLASS:PUBLIC
STATUS:CONFIRMED
TRANSP:TRANSPARENT
SEQUENCE:1
END:VEVENT
END:VCALENDAR
