BEGIN:VCALENDAR
VERSION:2.0
BEGIN:VEVENT
UID:1DC2217E-4E51-4212-953F-9C81362CCA1B
DTSTART:20230701T190000Z
DTEND:20230701T220000Z
SUMMARY:Klyde Warren Park's Independence Day Celebration
DESCRIPTION:There is no better way to celebrate Independence Day than spend
 ing it in Klyde Warren Park! Enjoy summer treats from a variety of food tr
 ucks\, family-fun games\, live music from Angel White and Prophets and Out
 laws\, and the grand finale — a city-wide pyrotechnic display synced to a
  curated playlist by Dallas native and fan-favorite\, DJ Lucy. This event
  is free and open to the public\, and blanket seating is first come\, firs
 t served. We hope you will join us as we salute the USA from Dallas’ town
  square!\nKlyde Warren Park\n2012 Woodall Rodgers Freeway\nDallas\, TX 752
 01 United States\n
LOCATION:2012 Woodall Rodgers Freeway\, Dallas\, TX 75201
URL:http://parkcities.bubblelife.com/community/parkcities_calendar/library/
 3560452/key/3511942604/Klyde_Warren_Parks_Independence_Day_Celebration
CREATED:20230615T201914Z
LAST-MODIFIED:20230615T201914Z
DTSTAMP:20260421T132746Z
CLASS:PUBLIC
STATUS:CONFIRMED
TRANSP:TRANSPARENT
SEQUENCE:1
END:VEVENT
END:VCALENDAR
