BEGIN:VCALENDAR
VERSION:2.0
BEGIN:VEVENT
UID:1807CCFB-0F68-40E2-88DC-827075E26877
DTSTART:20230926T110000Z
DTEND:20230926T133000Z
SUMMARY:KidneyTexas\, Inc. The Runway Report Fashion Show
DESCRIPTION:The morning begins with a champagne reception followed by a pro
 gram and runway fashion show produced by Jan Strimple Productions\, which
  is always a fabulous event including fun surprises. Live and Silent Aucti
 ons. Award presentations. It is all topped off with a delicious luncheon.
   Scott Murray is emcee.  E verson Walls Legacy Award Honoree: Crissy Perh
 am.  Sue Goodnight Service Award: Charlotte Kimberlin. Cindy Feld is honor
 ary chair. Venise Stuart is luncheon chair. Nancy Greenbach is president\,
  KidneyTexas\, Inc.   All of the funds raised stay in North Texas and bene
 fit Camp Reynal-National Kidney Foundation\, Children’s Medical Center Fou
 ndation\, Methodist Health System Foundation and Texas Health Resources Fo
 undation. \n Mission Statement: The purpose of KidneyTexas\, Inc. is to pr
 ovide funding to improve the methods of treatment\, the search for a cure
  and prevention of kidney disease and other kindred or contributory diseas
 es\; and to develop more adequate provision for the care of persons suffer
 ing from such diseases.  \n Statistics: Debilitating kidney diseases impac
 t approximately 20 million people in the United States today. Groups at hi
 gh risk include African Americans\, Hispanics\, senior citizens and people
  with diabetes. In Texas\, there are over 30\,000 people on dialysis and 4
 \,000 on a transplant list. The number of patients on dialysis is anticipa
 ted to double this decade.  \n History: Since 1999\, the dedicated volunte
 ers of KidneyTexas\, Inc. have worked in tandem with our generous underwri
 ters to raise over $4.6 million for local efforts to improve the ability t
 o diagnose and manage kidney disease.  \n Each fall KidneyTexas\, Inc. hos
 ts its Luncheon & Fashion Show in an effort to raise money for designated
  beneficiaries and awareness for a disease that affects millions of people
  each year. The success of this event depends heavily upon the contributio
 ns and dedication of our Dallas business and community leaders. Your suppo
 rt is crucial to the success of our mission.\nBrook Hollow Golf Club\n8301
  Harry Hines Blvc\nDallas\, TX 75235 United States\n
LOCATION:8301 Harry Hines Blvc\, Dallas\, TX 75235
URL:http://parkcities.bubblelife.com/community/adams_communications_public_
 relations/library/35562441/key/3511935033/KidneyTexas_Inc._The_Runway_Repo
 rt_Fashion_Show
CREATED:20230811T223429Z
LAST-MODIFIED:20230811T223429Z
DTSTAMP:20260421T020229Z
CLASS:PUBLIC
STATUS:CONFIRMED
TRANSP:TRANSPARENT
SEQUENCE:1
END:VEVENT
END:VCALENDAR
