BEGIN:VCALENDAR
VERSION:2.0
BEGIN:VEVENT
UID:352B9583-BF3F-4728-AA5F-8A63F9CF4F2B
DTSTART:20230722T000000Z
DTEND:20230723T000000Z
SUMMARY:Bread Winners Café To Celebrate 29th Anniversary
DESCRIPTION:On  Saturday\,  July 22 \, Bread Winners Café & Bakery  invites
  customers to celebrate twenty nine years of operation by offering a speci
 al M imosa  Carafe  that will include a  bottle of  Amor Di Amanti Prosecc
 o   with an assorted selection of mixers  ( orange\, cranberry and pineapp
 le juice ) for $29. In addition\, all entree purchases will receive a comp
 limentary  mini “birthday cake" cupcake  ( which is  vanilla confetti cake
  with buttercream icing )  at all locations\, while supplies last. \nLocat
 ions: \nUptown | 3301 McKinney Ave\, Dallas\, Texas  75204\, 214.754.4940
  \nPark Cities | 5560 W. Lovers Lane in Inwood Village\, Dallas\, Texas  7
 5209\, 214.351.3339 \nNorthPark Center | 8687 N. Central Expressway\, Suit
 e 1608\, Dallas\, Texas 75225\, 214.232.9798 \nPlano | 4021 Preston Rd.\,
  Plano\, Texas 75093\, 972.312.9300 \n https://www.breadwinnerscafe.com/\n
 Bread Winners Café & Bakery\n3301 McKinney Ave\nDallas\, TX 75204 United S
 tates\n
LOCATION:3301 McKinney Ave\, Dallas\, TX 75204
URL:http://parkcities.bubblelife.com/community/gangway_advertising/library/
 35882654/key/3511920931/Bread_Winners_Caf_To_Celebrate_29th_Anniversary
CREATED:20230720T150538Z
LAST-MODIFIED:20230720T150538Z
DTSTAMP:20260424T075514Z
CLASS:PUBLIC
STATUS:CONFIRMED
TRANSP:TRANSPARENT
SEQUENCE:1
END:VEVENT
END:VCALENDAR
