BEGIN:VCALENDAR
VERSION:2.0
BEGIN:VEVENT
UID:C07A1C41-F085-44AE-940A-7B53FD95BD04
DTSTART:20230724T000000Z
DTEND:20230725T000000Z
SUMMARY:Where To Celebrate National Tequila Day
DESCRIPTION:On Monday\, July 24\, celebrate National Tequila Day with the f
 ollowing specials at Bread Winners Café & Bakery or their sister concept\,
  Quarter Bar .  \n \n  \nAVAILABLE AT BREAD WINNERS: \n$10  Spicy Patron M
 argarita  \n$10  Perfect Patron Silver Margarita \n \n   \n   \n AVAILABLE
  AT QUARTER BAR: \n \n $12 Cielo Patron  Margarita \n $10 Spicy Patron Mar
 garita  \n $10 Perfect Patron Silver Margarita \n   \n   \n \nBread Winner
 s L ocations: \nUptown | 3301 McKinney Ave\, Dallas\, Texas  75204\, 214.7
 54.4940 \nPark Cities | 5560 W. Lovers Lane in Inwood Village\, Dallas\, T
 exas  75209\, 214.351.3339 \nNorthPark Center | 8687 N. Central Expressway
 \, Suite 1608\, Dallas\, Texas 75225\, 214.232.9798 \nPlano | 4021 Preston
  Rd.\, Plano\, Texas 75093\, 972.312.9300 \n  \n Quarter Bar Location: \n
  Uptown | 3301 McKinney Ave\, Dallas\, Texas  75204\, 214.754.4940\nBread
  Winners Café & Bakery\n3301 McKinney Ave\nDallas\, TX 75204 United States
 \n
LOCATION:3301 McKinney Ave\, Dallas\, TX 75204
URL:http://parkcities.bubblelife.com/community/gangway_advertising/library/
 35882654/key/3511920043/Where_To_Celebrate_National_Tequila_Day
CREATED:20230720T151100Z
LAST-MODIFIED:20230720T151100Z
DTSTAMP:20260424T075514Z
CLASS:PUBLIC
STATUS:CONFIRMED
TRANSP:TRANSPARENT
SEQUENCE:1
END:VEVENT
END:VCALENDAR
