BEGIN:VCALENDAR
VERSION:2.0
BEGIN:VEVENT
UID:3890C9D9-3B87-4767-BA76-87C9CF23C051
DTSTART:20230505T160000Z
DTEND:20230506T020000Z
SUMMARY:Celebrate Cinco de Mayo at Revelers Hall
DESCRIPTION:This Cinco de Mayo ¡Shake Your Culo!  \nIt's going to be Hot! H
 ot! Hot! at Revelers hall in Bishop Arts. \n  \n \n Friday\, May 5 \nMusic
  Lineup: \nEl Chanclazo from 4 - 7PM \nSabor Puro from 8 - Midnight \nDJ N
 ick Van House from Midnight til 2AM \n  \nEnjoy happy hour with El Chancla
 zo\, an incredible Cumbia show by our friends at Sabor Puro\, and close it
  out with a late night set by Nick Van House. \nNo advance tickets needed.
  \n  \n Revelers Hall is located at  412 N.Bishop Avenue\, Dallas\, TX 752
 08 \,  972.982.2661 \,  https://www.revelershall.com/\nRevelers Hall\n412
  N.Bishop Avenue\nDallas\, TX 75208 United States\n
LOCATION:412 N.Bishop Avenue\, Dallas\, TX 75208
URL:http://parkcities.bubblelife.com/community/gangway_advertising/library/
 35882654/key/3511917331/Celebrate_Cinco_de_Mayo_at_Revelers_Hall
CREATED:20230501T104436Z
LAST-MODIFIED:20230501T104436Z
DTSTAMP:20260424T075454Z
CLASS:PUBLIC
STATUS:CONFIRMED
TRANSP:TRANSPARENT
SEQUENCE:1
END:VEVENT
END:VCALENDAR
