BEGIN:VCALENDAR
VERSION:2.0
BEGIN:VEVENT
UID:80947FA0-D84A-4DF5-A10F-BD54BD89F030
DTSTART:20230504T160000Z
DTEND:20230505T000000Z
SUMMARY:Celebrate Star Wars Day at Revelers Hall
DESCRIPTION:Not all that long ago\, in this very galaxy\, Star Wars fans fo
 und a really good excuse to celebrate their obsession on Star Wars Day\, a
 ka May the 4th. Even if you’re not a die-hard fan\, it’s nearly impossible
  not to smile just a little bit at this play on Obi-Wan Kenobi’s memorable
  line in A New Hope\, which has become one of the most famous Star Wars qu
 otes of all time: “May the Force be with you.”   From  4:00 PM  to Midnigh
 t  on Thursday\, May 4 \, Revelers Hall will host a May the Fourth Star Wa
 rs-themed event with themed food and cocktail specials and live music thro
 ughout the evening.  Costumes are most definitely encouraged ! \n  \n  \nS
 tar Wars-themed food specials will include: \n· Crispy Porg Wings \n· Tato
 oine Hot Cheese Fries \n· Bantha Meatballs & Burger \n· Whipped Endorian G
 oat Cheese \n· Mustafar Lava Cake \n· Wookie Pie \n  \n  \nThemed drink sp
 ecials include: \n· Green Yoda Matcha Tea cocktail \n· In A Galaxy Far Far
  Away shimmering cocktail \n  \n  \nAnd enjoy live music: \n· 5 - 8 PM - C
 antina Band (jazz classical hybrid) \n· 8 - 11 PM - Popham and the Stormtr
 oopers (heavy metal jazz) \n  \n  \nRevelers Hall is located at 412 N.Bish
 op Avenue\, Dallas\, TX 75208\, 972.982.2661\,  https://www.revelershall.c
 om/\nRevelers Hall\n412 N.Bishop Avenue\nDallas\, TX 75208 United States\n
LOCATION:412 N.Bishop Avenue\, Dallas\, TX 75208
URL:http://parkcities.bubblelife.com/community/gangway_advertising/library/
 35882654/key/3511910890/Celebrate_Star_Wars_Day_at_Revelers_Hall
CREATED:20230421T192651Z
LAST-MODIFIED:20230421T192651Z
DTSTAMP:20260424T105213Z
CLASS:PUBLIC
STATUS:CONFIRMED
TRANSP:TRANSPARENT
SEQUENCE:1
END:VEVENT
END:VCALENDAR
