BEGIN:VCALENDAR
VERSION:2.0
BEGIN:VEVENT
UID:2D5FB356-6138-42E9-BD47-2A0DD48BAC86
DTSTART:20230712T000000Z
DTEND:20230716T000000Z
SUMMARY:Oddfellows to Celebrate Bastille Day
DESCRIPTION:Oak Cliff will celebrate the French festival  " Bastille on Bis
 hop "  this July 14th in celebration of the district’s French heritage . O
 ddfellows will offer the following menu specials in celebration of Bastill
 e Day  Wednesday\,  July 12th -  Saturday\, July  15th. Escargot with garl
 ic herb butter (16) Duck rillette with pickled veggies and crostini (16) B
 eef Bourguignon stew simmered in a rich red wine gravy served with whipped
  potatoes (22) Croque Monsieur – a toasted French ham and cheese sandwich\
 , made with gruyere\, parmesan\, ham and a béchamel sauce (16) Chocolate M
 ousse (8) \n \n  \nOddfellows is located at 316 W 7th Street\, Dallas\, Te
 xas 75208\, 214.944.5958 \n  https://www.oddfellowsdallas.com \n  \n  \nHO
 URS OF OPERATION \n 7AM - 10PM Monday through Saturday \n 7AM - 9PM on Sun
 day \n On Sunday\, brunch is served until 9PM \n   \n RESERVATIONS \n Rese
 rvations can be made via  Resy \n Reservations are NOT accepted for Sunday
  brunch \n Tables and bar seating are available for walk-ins.\nOddfellows\
 n316 W 7th Street\nDallas\, TX 75208 United States\n
LOCATION:316 W 7th Street\, Dallas\, TX 75208
URL:http://parkcities.bubblelife.com/community/gangway_advertising/library/
 35882654/key/3511902874/Oddfellows_to_Celebrate_Bastille_Day
CREATED:20230707T151831Z
LAST-MODIFIED:20230707T151831Z
DTSTAMP:20260424T075514Z
CLASS:PUBLIC
STATUS:CONFIRMED
TRANSP:TRANSPARENT
SEQUENCE:1
END:VEVENT
END:VCALENDAR
