BEGIN:VCALENDAR
VERSION:2.0
BEGIN:VEVENT
UID:9C51162C-F6A0-40F0-BC9E-589F840C041C
DTSTART:20230712T000000Z
DTEND:20230716T000000Z
SUMMARY:Revelers Hall Celebrates Bastille Day
DESCRIPTION:Oak Cliff will celebrate the French festival  " Bastille on Bis
 hop "  this July 14th in celebration of the district’s French heritage . R
 evelers Hall will offer the following menu specials in celebration of Bast
 ille Day  Wednesday\,  July 12th -  Saturday\, July  15th . \n Escargot wi
 th garlic herb butter (16) Duck rillette with pickled veggies and crostini
  (16) Pomme Frites served with a garlic aioli (10) Chocolate Mousse (8) \n
  \n Revelers Hall offers indoor and outdoor seating and is located at  412
  N.Bishop Avenue\, Dallas\, TX 75208\, 972.982.2661  \n https://www.revele
 rshall.com/ \n  \n \n HOURS OF OPERATION Monday – Friday\, 4 PM-12 AM Satu
 rday-Sunday\, 12 PM-12 AM \n Walk-ins only. Reservations are not offered.\
 nRevelers Hall\nDallas\, TX 75208 United States\n
LOCATION:Dallas\, TX 75208
URL:http://parkcities.bubblelife.com/community/gangway_advertising/library/
 35882654/key/3511902313/Revelers_Hall_Celebrates_Bastille_Day
CREATED:20230707T152250Z
LAST-MODIFIED:20230707T152250Z
DTSTAMP:20260424T075550Z
CLASS:PUBLIC
STATUS:CONFIRMED
TRANSP:TRANSPARENT
SEQUENCE:1
END:VEVENT
END:VCALENDAR
