BEGIN:VCALENDAR
VERSION:2.0
BEGIN:VEVENT
UID:A4415E83-B5F6-4F34-98DC-07A8AC4A07C8
DTSTART:20241018T180000Z
DTEND:20241018T230000Z
SUMMARY:Turtle Creek Association Annual Gala
DESCRIPTION:The gala promises an extraordinary evening filled with elegance
 \, excitement\, and entertainment. Guests will enjoy a champagne reception
 \, a delectable three-course seated dinner\, live and silent auctions\, an
 d an unforgettable finale of dancing to the captivating tunes of the renow
 ned Emerald City's Limelight Band.  Cocktail attire.  \nTeresa Byrd\, Pres
 enting Sponsor. Elyse and David Walthall\, Honorary Chairs. Sharon Ballew\
 , Chair. JD Trueblood\, President and CEO\, Turtle Creek Association. \nIn
 dividual tickets begin at $375. Sponsorships\, underwriting\, and tickets
  can be purchased at https://TCAgala24.givesmart.com . \n About Turtle Cre
 ek Association \nThe annual Gala is a key fundraising event benefiting the
  Turtle Creek Association\, a 501(c)(3) nonprofit organization.  TCA’s cor
 e mission is to serve as the foremost guardian\, advocate\, and leader ded
 icated to preserving\, protecting and enhancing the Turtle Creek corridor.
  \nFurthermore\, the Turtle Creek Association takes on a range of vital re
 sponsibilities.  This includes orchestrating seasonal color transformation
 s along the creek\, managing irrigation and watering systems\, overseeing
  litter and trash removal from the creek\, and upkeeping 25 beautifully la
 ndscaped medians. We play a crucial role in sustaining 2\,600 trees that o
 ffer a haven for wildlife\, and we’re instrumental in providing essential
  amenities such as drinking fountains\, trash receptacles\, and benches th
 roughout the parks. Remarkably\, all of these efforts are achieved through
  the generosity of our donors. \nFor more information and to join our caus
 e\, please visit our website at www.turtlecreekassociation.org . Your supp
 ort fuels our commitment to preserving the urban sanctuary that is Turtle
  Creek.\nVirgin Hotels Dallas\n1445 Turtle Creek Blvd.\nDallas\, TX United
  States\n
LOCATION:1445 Turtle Creek Blvd.\, Dallas\, TX
URL:http://parkcities.bubblelife.com/community/adams_communications_public_
 relations/library/35562441/key/3511880560/Turtle_Creek_Association_Annual_
 Gala
CREATED:20240930T222052Z
LAST-MODIFIED:20240930T222052Z
DTSTAMP:20260420T231208Z
CLASS:PUBLIC
STATUS:CONFIRMED
TRANSP:TRANSPARENT
SEQUENCE:1
END:VEVENT
END:VCALENDAR
