BEGIN:VCALENDAR
VERSION:2.0
BEGIN:VEVENT
UID:0DB32EE7-36FC-44D5-89AB-B8E0EF56334C
DTSTART:20241122T173000Z
DTEND:20250104T210000Z
SUMMARY:Dallas Zoo Lights Presented by Reliant
DESCRIPTION:Embark on a dazzling adventure where the wild glows and magic f
 ollows. This holiday season\, bring your wildest dreams to life as you jou
 rney through the mesmerizing\, themed areas and dazzling lights decorating
  your Dallas Zoo. Themed "Once Upon a Wild Light\," you can stroll through
  the larger-than-life\, magical experience where wild things glow. At Visi
 ons of the Wild \, immerse yourself in a 360-degree light experience\, exp
 loring diverse biomes filled with vibrant wildlife and awe-inspiring sight
 s. An immersive projection experience awaits you at DinoLand\, brought to
  you by Reliant\, where you can see a first-of-its-kind Dino Lumina: A Jur
 assic Adventure \, where dinosaurs roam\, hunt\, and tower around you\, br
 inging prehistoric life to reality! Let your imagination run wild with new
  and favorite festive holiday treats\, photos at Santa’s Holiday Storyland
 \, holiday-themed photo ops\, unique animal-themed vignettes filled with g
 lowing animal lanterns\, live musical performances\, and more than 2 milli
 on lights! Please note that this event is designed for viewing festive lig
 hting displays and most of the Zoo's animals will go to bed before the lig
 hts come on. \n  \nNEW this year: Buy your tickets in advance to SAVE with
  our new plan-ahead pricing! General Admission Tickets: Adults starting at
  only $16 \nDual – Passport Members: Starting at $13 \nPatron and above Me
 mbers: FREE \n https://www.dallaszoo.com/zoolights/\nDallas Zoo\n650 S R.L
 . Thornton Fwy\nDallas\, TX 75203 United States\n
LOCATION:650 S R.L. Thornton Fwy\, Dallas\, TX 75203
URL:http://parkcities.bubblelife.com/community/gangway_advertising/library/
 35882654/key/3511877831/Dallas_Zoo_Lights_Presented_by_Reliant
CREATED:20241031T200837Z
LAST-MODIFIED:20241031T200837Z
DTSTAMP:20260424T075513Z
CLASS:PUBLIC
STATUS:CONFIRMED
TRANSP:TRANSPARENT
SEQUENCE:1
END:VEVENT
END:VCALENDAR
