BEGIN:VCALENDAR
VERSION:2.0
BEGIN:VEVENT
UID:F7D7AC29-DAF0-40E9-966E-45BEBC6C935A
DTSTART:20240706T160000Z
DTEND:20240706T220000Z
SUMMARY:Northlake Independence Day Celebration
DESCRIPTION:Don’t miss an unforgettable Independence Day Celebration at the
  inaugural fireworks show at Hilltop Truck Park & Bar on Saturday July 6th
 . With ample outdoor covered seating and a variety of food options Hilltop
  is the ideal destination for a night out with family and friends to celeb
 rate the day our founding fathers signed the Declaration of Independence a
 nd announced independence from Great Britain. \n  \nStarting at 4:00 PM in
 dulge in a culinary journey with a lineup of food trucks offering everythi
 ng from burgers to BBQ to comfort food. Hilltop Truck Park’s bar will be s
 erving refreshing adult beverages to keep you cool as you enjoy the festiv
 ities. Live music from acoustic duo\, Haworth\, will set the perfect ambia
 nce throughout the evening (7-10 PM). \n  \nAs the sun sets around 8:45 PM
  prepare for a breathtaking fireworks display. Bring your own blanket or c
 hairs to ensure you have a comfortable spot to witness the spectacular sho
 w as seating at Hilltop is limited. Admission and parking are free so don’
 t miss out on this celebration of freedom and community at Hilltop Truck P
 ark & Bar. \n  \nParticipating partners include the Hillwood Communities\,
  Town of Northlake\, Hilltop Truck Park & Bar\, Harvest\, Pecan Square\, S
 mashville Burgers and Tots\, Indian Creek Smokehouse\, and Lamar Bank.\nHi
 lltop Truck Park & Bar\n8150 Thompson Rd\nNorthlake\, TX 76247 United Stat
 es\n
LOCATION:8150 Thompson Rd\, Northlake\, TX 76247
URL:http://parkcities.bubblelife.com/community/gangway_advertising/library/
 35882654/key/3511865361/Northlake_Independence_Day_Celebration
CREATED:20240621T132505Z
LAST-MODIFIED:20240621T132505Z
DTSTAMP:20260424T075513Z
CLASS:PUBLIC
STATUS:CONFIRMED
TRANSP:TRANSPARENT
SEQUENCE:1
END:VEVENT
END:VCALENDAR
