BEGIN:VCALENDAR
VERSION:2.0
BEGIN:VEVENT
UID:3B526032-29D4-4C59-AA41-EC6E651A09E2
DTSTART:20240606T000000Z
DTEND:20240610T000000Z
SUMMARY:Celebrate National Rosé Day at Coupes
DESCRIPTION:Rosé wines are Summer’s most celebrated drink and Coupes will f
 eature their rosé offerings at special prices Thursday\, June 6 through Su
 nday\, June 9 in celebration of  National   Rosé Day  ( which is technical
 ly  Sat\, June 8). Enjoy a variety of rosé by the glass or sample “La Vie
  en Rosé” - a flight of 3 rosé sparklings. They have created two specialty
  cocktails for the occasion: Enjoy the  Lady Whistledown  (14) comprised o
 f Gratien & Meyer sparkling rosé\, Chambord\, lemon\, and rosé syrup or  T
 he Eloise  (14) made with William Chris sparkling rosé\, vodka\, grapefrui
 t\, lemon\, and  rosé syrup. Coupes will offer 15+ rosé bottles (both true
  champagnes and sparklings) and 4 still wines by the bottle. A specialty
   Strawberry Rosé Champagne Cake  will also be added to the menu that week
 end as a sweet treat. A rosé is a type of wine that incorporates some of t
 he color from the grape skins\, but not enough to qualify it as a red wine
  and it perfectly mixes fresh\, fruity flavors\, bright acidity\, and love
 ly colors to create a unique and exciting category of vino. It may be the
  oldest known type of wine\, as it is the most straightforward to make wit
 h the skin contact method. Rosé can be still or sparkling\, and range in t
 aste from sweet to dry. Rosé can be made with almost any variety of red wi
 ne grape\, with the lighter color and flavor being achieved by certain fer
 mentation techniques. From its exquisite color to its fascinating producti
 on and its myriad food pairing possibilities\, this famous “pink” wine has
  history\, culture\, and flavor that make it an essential of any collectio
 n. \n  \n Coupes offers over a dozen champagnes and sparkling wines by the
  glass and 50 labels by the bottle designed for everyday celebrations and
  conversation. Channeling the sophisticated nature of France\, the à la mo
 de setting establishes Coupes as an elegant\, French-inspired space with a
  Texas accent. The luxurious booth seating and circular bar are a welcomin
 g and joyful environment to celebrate\, to spark romance\, or to indulge y
 ourself by drinking champagne for no reason at all. Coupes is located at T
 he Shops at Highland Park at 4234 Oak Lawn Ave\, Dallas\, TX 75219 \,  (21
 4) 434-1347\,  https://www.coupesdallas.com/.  Reservations can be made vi
 a Tock\, but walk-ins are always welcome.\nCoupes\n4234 Oak Lawn Ave\nDall
 as\, TX 75219 United States\n
LOCATION:4234 Oak Lawn Ave\, Dallas\, TX 75219
URL:http://parkcities.bubblelife.com/community/gangway_advertising/library/
 35882654/key/3511845544/Celebrate_National_Ros_Day_at_Coupes
CREATED:20240528T200037Z
LAST-MODIFIED:20240528T200037Z
DTSTAMP:20260424T075513Z
CLASS:PUBLIC
STATUS:CONFIRMED
TRANSP:TRANSPARENT
SEQUENCE:1
END:VEVENT
END:VCALENDAR
