BEGIN:VCALENDAR
VERSION:2.0
BEGIN:VEVENT
UID:C310DD9F-ED35-483B-BA91-D2B8470A626D
DTSTART:20240906T190000Z
DTEND:20240907T020000Z
SUMMARY:The Ivy Tavern Celebrates Ten Year Anniversary
DESCRIPTION:To mark the occasion of their 10-year anniversary\,  The Ivy Ta
 vern  will host a blowout celebration on  Friday\, September 6  (7PM) feat
 uring live music from Big D Energy (formerly known as Cover Girl) playing
  covers from the 80s\, 90s\, and 2000s starting at 9PM. Enjoy $5 Ranch Wat
 ers\, made with Altos Tequila or Astral Tequila\, throughout the night and
  as part of the celebration\, every guest will receive a raffle ticket for
  a chance to win one of two (2) $500 gift certificates to The Ivy Tavern.
  Winners will be drawn at 12am/midnight\, and attendees must be present to
  win. \n   \n Established by Lisa and Tom Georgalis in 2014\, this beloved
  “Dallas Original” neighborhood bar has long been known for its diverse se
 lection of craft and international beers\, award-winning menu\, and welcom
 ing atmosphere. Step inside\, and you'll discover a country club/dive bar
  vibe where an eclectic mix of personalities come together\, making everyo
 ne feel welcome and at home. It’s not at all unusual to find someone in sw
 eats talking to a couple in black-tie attire who’s just come from a charit
 y gala. At The Ivy\, everyone is welcome just as they are!  \n   \n The Iv
 y Tavern is located at 5334 Lemmon Avenue\, Dallas\, TX 75209\, 214-559-44
 24\,   www.theivytavern.com .\nThe Ivy Tavern\n5334 Lemmon Avenue\nDallas\
 , TX 75209 United States\n
LOCATION:5334 Lemmon Avenue\, Dallas\, TX 75209
URL:http://parkcities.bubblelife.com/community/gangway_advertising/library/
 35882654/key/3511821093/The_Ivy_Tavern_Celebrates_Ten_Year_Anniversary
CREATED:20240903T141512Z
LAST-MODIFIED:20240903T141512Z
DTSTAMP:20260424T075513Z
CLASS:PUBLIC
STATUS:CONFIRMED
TRANSP:TRANSPARENT
SEQUENCE:1
END:VEVENT
END:VCALENDAR
