BEGIN:VCALENDAR
VERSION:2.0
BEGIN:VEVENT
UID:DD7C1897-5BEA-4A0F-AB14-AD5D5D7BD06E
DTSTART:20241113T100000Z
DTEND:20241113T130000Z
SUMMARY:18th Annual A Writer’s Garden
DESCRIPTION:18 th  Annual A Writer’s   Garden 2024 is themed  Star Style Gl
 amour for the Home & Garden  and celebrates the 27 th  Anniversary of A Wo
 man’s Garden and the \n42 nd  Anniversary of the Women’s Council of the Da
 llas Arboretum and Botanical Garden and benefits the Women's Council of th
 e Dallas Arboretum and Botanical Garden and A Woman's Garden. \nThe mornin
 g begins with refreshments and light snacks\, book sales and book signings
  by the featured speakers Martyn Lawrence Bullard and Stefani Bittner\, fo
 llowed by their presentations and a luscious luncheon.  \nMartyn Lawrence
  Bullard is a multi-award-winning English interior designer\, author and t
 elevision personality based in Los Angeles\, renowned for his broad range
  of styles and eclectic\, yet sophisticated and inviting interiors. Martyn
  is the author of “Star Style” (Vendome Press\, 2023)\, “Martyn Lawrence B
 ullard: Design and Decoration” (Rizzoli\, 2016) and “Live\, Love and Decor
 ate” (Rizzoli\, 2011). \n  Stefani Bittner is the owner of Homestead Desig
 n Collective\, a San Francisco Bay area landscape design firm focused on c
 reating beautiful gardens that provides harvest in every season. Stefani i
 s the author of “The Fragrant Flower Garden” (Ten Speed Press\, 2024)\, “H
 arvest: Unexpected Projects Using 47 Extraordinary Garden Plants” (Ten Spe
 ed Press\, 2017)\, “The Beautiful\, Edible Garden” (Ten Speed Press\, 2013
 ). \nA Writer's Garden is presented by the Weber Foundation. Joni Krieg is
  chair. Garry Weber is honorary chair. Therese Rourk is president of the W
 omen's Council. \nIndividual Patron Tickets start at $500 and have additio
 nal benefits. Table Underwriting starts at $5\,000 up to $100\,000 with di
 fferent levels of benefits. Visit the website at  www.wcdabg.org  to purch
 ase tickets and underwriting. \n ABOUT THE WOMEN’S COUNCIL :  Celebrating
  its 42nd Anniversary. Since 1982 the major goal of the Women’s Council ha
 s been the design\, construction\, funding and endowment of A Woman’s Gard
 en\, a principal garden at the Dallas Arboretum. A Woman’s Garden is the o
 nly public garden in the United States conceived by women\, funded by the
  efforts of women and dedicated to the spirit of women. Celebrating its 42
 nd year\, the support of over 600 members of the Women’s Council makes pos
 sible the continued expansion and development of  A Woman’s Garden.  The W
 omen’s Council is an all-volunteer\, 501(c)(3) non-profit organization.
    www.wcdabg.org \n ABOUT A WOMAN’S GARDEN: Celebrating its 27 th  Annive
 rsary. A Woman’s Garden is the only public garden in the nation conceived\
 , constructed and maintained by the funding efforts of women. Ablaze with
  color in every season\, A Woman’s Garden sits majestically as a living te
 stament to the passion and vision of the Women’s Council founders and the
  boundless energy and devotion of its members whose commitment to creating
  a garden dedicated to the universal spirit of women across generations is
  realized in its inspired design. Our beautiful garden celebrates the powe
 r\, creativity\, resourcefulness\, passion and unwavering commitment of th
 e women who came before us and those entrusted with its care now\, and int
 o the future.\nDallas Arboretum\n8525 Garland Road\nDallas\, TX 75218 Unit
 ed States\n
LOCATION:8525 Garland Road\, Dallas\, TX 75218
URL:http://parkcities.bubblelife.com/community/adams_communications_public_
 relations/library/35562441/key/3511807014/18th_Annual_A_Writers_Garden
CREATED:20240826T211457Z
LAST-MODIFIED:20240826T211457Z
DTSTAMP:20260421T003845Z
CLASS:PUBLIC
STATUS:CONFIRMED
TRANSP:TRANSPARENT
SEQUENCE:1
END:VEVENT
END:VCALENDAR
