BEGIN:VCALENDAR
VERSION:2.0
BEGIN:VEVENT
UID:CB514BF2-C442-4CFD-8453-355EA678B0DD
DTSTART:20240921T170000Z
DTEND:20240921T210000Z
SUMMARY:Hoot ‘n Holler
DESCRIPTION:You won’t want to miss this evening of bands\, bites\, and bevs
 ! This premier festival gathering celebrates the culinary arts with an arr
 ay of gourmet bites from top female chefs in the metroplex\, while offerin
 g a curated selection of wines and spirits that highlight female-led initi
 atives. Guests will be able to dance the night away to the sounds of The 4
 0 Acre Mule and headliner\, Summer Dean and mingle with industry professio
 nals and fellow food enthusiasts. VIP ticket holder will enjoy early admis
 sion from 5:00pm -6:00pm along with other special perks including a exclus
 ive VIP performance by Matt Hillyer. A shuttle bus from Dallas to Rockwall
  is available for additional purchase. Local hotels in Dallas and Rockwall
  will offer special rates for ticket holders. This event benefits Les Dame
 s d’ Escoffier Dallas Chapter\, an organization of women leaders who creat
 e a supportive culture in their communities to achieve excellence in the f
 ood\, fine beverage and hospitality fields. They intend to share knowledge
 \, support members\, provide leadership\, educational opportunities and ph
 ilanthropic events for the community at large. \n TICKETS \nTickets for VI
 P cost $125 (includes early access\, exclusive tastings\, and a special gi
 ft)  \nGeneral Admission offered at $85 per person.\nTate Farms\n12992 Far
 m to Market 548\nRockwall\, TX 75032 United States\n
LOCATION:12992 Farm to Market 548\, Rockwall\, TX 75032
URL:http://parkcities.bubblelife.com/community/gangway_advertising/library/
 35882654/key/3511803234/Hoot_n_Holler
CREATED:20240821T024855Z
LAST-MODIFIED:20240821T024855Z
DTSTAMP:20260424T075513Z
CLASS:PUBLIC
STATUS:CONFIRMED
TRANSP:TRANSPARENT
SEQUENCE:1
END:VEVENT
END:VCALENDAR
