BEGIN:VCALENDAR
VERSION:2.0
BEGIN:VEVENT
UID:8DBA0987-8ADB-4F94-947B-39BC12CDC402
DTSTART:20260101T120000Z
DTEND:20260101T190000Z
SUMMARY:Day 1 DFW benefiting Vogel
DESCRIPTION:Come out and play on New Years Day at the  11th Annual Day 1 DF
 W  event benefiting Vogel. This incredible family-friendly celebration wil
 l be packed with exciting activities\, live entertainment\, and games that
  serve a heartwarming purpose. From interactive booths to thrilling perfor
 mances\, there’s something for everyone! A variety of food options will be
  available at the concession stands and in the Irving Convention Center Ca
 fé. By attending Day 1 DFW\, you’re not just creating wonderful memories b
 ut also supporting Vogel’s mission of helping homeless children and famili
 es. \nActivities Include: Giant Inflatable slides Inflatable obstacles cou
 rses Rock Climbing Walls Face Painting Sports Zone Arts & Crafts Legos Car
 dboard Construction Area Photo experiences \nPlus\, many more children’s g
 ames and activities! \n  \nLive Performers: DJ Sprinkles Wildlife on the M
 ove Grant Price\, Magician David Slick\, Stilt Walker \n  \nTicket Informa
 tion: General Admission: $15 per adult in advance $25 per adult at the doo
 r Kids 17 and under are FREE \n  \nParking: Onsite parking is available fo
 r $15. \nWebsite:  https://vogelalcove.org/day-1-dfw/ \nTickets:  https://
 www.prekindle.com/event/76318-day-1-dfw-2026-irving\nIrving Convention Cen
 ter\n500 W Las Colinas Blvd\nIrving\, TX 75039 United States\n
LOCATION:500 W Las Colinas Blvd\, Irving\, TX 75039
URL:http://parkcities.bubblelife.com/community/gangway_advertising/library/
 35882654/key/3511796331/Day_1_DFW_benefiting_Vogel
CREATED:20251119T212501Z
LAST-MODIFIED:20251119T212501Z
DTSTAMP:20260424T062727Z
CLASS:PUBLIC
STATUS:CONFIRMED
TRANSP:TRANSPARENT
SEQUENCE:1
END:VEVENT
END:VCALENDAR
