BEGIN:VCALENDAR
VERSION:2.0
BEGIN:VEVENT
UID:F7DC1472-872A-4DA7-8CC2-21BDFAC1CE59
DTSTART:20260514T190000Z
DTEND:20260514T220000Z
SUMMARY:Ricki Derek & the Vegas Six: A Sinatra Tribute
DESCRIPTION:Join Ricki Derek and the Vegas Six for an unforgettable evening
  toasting Frank Sinatra on the anniversary of his passing. A showman in th
 e classic tradition\, Ricki channels the spirit of the Rat Pack era drawin
 g on the influences of Sinatra\, Dean Martin\, Tony Bennett\, Sammy Davis
  Jr.\, and more to deliver the kind of full-throttle live experience that
  made those legends immortal. The night carries extra meaning as it also m
 arks the anniversary of Ricki's very first performance way back in 1998. S
 pecial guest comedian Dean Lewis rounds out the bill. Choose from general
  admission seating or a limited number of VIP\, two seat couches. Doors op
 en at 7PM\, Show starts at 8 PM \n  \nTICKETS: https://buy.ticketstothecit
 y.com/venue.php?org_id=377 \nVIP Couches $90 each (couches seat 2)\, Gener
 al Seating $30\nFour Day Weekend Theater\n5601 Sears Street\nDallas\, TX 7
 5206 United States\n
LOCATION:5601 Sears Street\, Dallas\, TX 75206
URL:http://parkcities.bubblelife.com/community/gangway_advertising/library/
 35882654/key/3511773954/Ricki_Derek_the_Vegas_Six_A_Sinatra_Tribute
CREATED:20260423T213357Z
LAST-MODIFIED:20260423T213357Z
DTSTAMP:20260424T073806Z
CLASS:PUBLIC
STATUS:CONFIRMED
TRANSP:TRANSPARENT
SEQUENCE:1
END:VEVENT
END:VCALENDAR
