BEGIN:VCALENDAR
VERSION:2.0
BEGIN:VEVENT
UID:2EE74086-95D9-4F9A-8DFA-31659584C8FF
DTSTART:20251115T100000Z
DTEND:20251115T170000Z
SUMMARY:6th Annual Tour of Trees at Trinity Falls
DESCRIPTION:Join the Trinity Falls family this holiday season and experienc
 e the magic that makes this community so exceptional. This year's Tour of
  Trees holiday tour will include themed trees such as Peacocks\, Gnome Vil
 lage\, Texas Yuletide\, Your Home in Nature\, Elf on Shelf\, Tiffany’s\, S
 ugar Plum Fairy\, Minion Mania. NEW designs include Merry Wickedmas\, a ho
 mage to Wicked fans and Spidey’s Spectacular Multiverse\, based off the sp
 ider man comic book character. This event is FREE\, but registration is re
 quired .  \nProvided maps will guide you through the homes\, highlighting
  the locations of these captivating Christmas trees\, all while savoring t
 he tour at your leisure. Not only will these stunning holiday displays ser
 ve as the perfect backdrop for your photos\, but visitors can capture “mag
 ical merry-tree moments” with the Tour of Trees Photo Contest . Simply sna
 p and share your favorite Trinity Falls Christmas tree photos for a chance
  to WIN one of two $500 Amazon gift cards. Visit any of the participating
  model homes\, take as many photos as you like in front of our beautifully
  decorated trees\, and upload them for a chance to win. Every photo upload
 ed will count as a separate raffle entry\, so start snapping to capture th
 e magic of the season and increase your chances of taking home a fabulous
  prize! \nTrinity Falls is once again partnering with Christmas tree styli
 st and social media influencer\, Antoinette Boston with A.B.’s Holiday Déc
 or\, for this year’s holiday themes in collaboration with Premier Christma
 s. This family-friendly event will be sure to ignite your festive imaginat
 ion and inspire your holiday photos! \n EVENT DATES: Saturday\, November 1
 5 – Sunday\, December 14 Closed November 27-28 (For Thanksgiving) TIMES: 1
 0am-5pm weekdays and Saturdays 12/noon to 5pm on Sundays\nTrinity Falls\n7
 801 Trinity Falls Parkway\nMcKinney\, TX 75071 United States\n
LOCATION:7801 Trinity Falls Parkway\, McKinney\, TX 75071
URL:http://parkcities.bubblelife.com/community/gangway_advertising/library/
 35882654/key/3511767384/6th_Annual_Tour_of_Trees_at_Trinity_Falls
CREATED:20251020T202244Z
LAST-MODIFIED:20251020T202244Z
DTSTAMP:20260424T075454Z
RRULE:FREQ=DAILY;UNTIL=20251214T000000Z;WKST=SA
CLASS:PUBLIC
STATUS:CONFIRMED
TRANSP:TRANSPARENT
SEQUENCE:1
END:VEVENT
END:VCALENDAR
