BEGIN:VCALENDAR
VERSION:2.0
BEGIN:VEVENT
UID:A182899C-C24B-41B9-8C62-0280AC315FC2
DTSTART:20251115T110000Z
DTEND:20251115T140000Z
SUMMARY:APRÈS TOT
URL:http://parkcities.bubblelife.com/community/gangway_advertising/library/
 35882654/key/3511754903/APRS_TOT
CREATED:20251021T205402Z
LAST-MODIFIED:20251021T205402Z
DTSTAMP:20260424T062803Z
CLASS:PUBLIC
STATUS:CONFIRMED
TRANSP:TRANSPARENT
SEQUENCE:1
END:VEVENT
END:VCALENDAR
