BEGIN:VCALENDAR
VERSION:2.0
BEGIN:VEVENT
UID:29A64F0F-4527-43D0-9DCD-4D8B36A0A7E4
DTSTART:20251004T180000Z
DTEND:20251005T000000Z
SUMMARY:2025 Dallas Symphony Orchestra Gala
DESCRIPTION:The 2025 Dallas Symphony Orchestra Gala will feature a black-ti
 e cocktail reception\, seated dinner and Gala Concert performed by the DSO
  with featured violinist\, Leonidas Kavakos. Music Director Fabio Luisi wi
 ll lead a show-stopping program featuring TCHAIKOVSKY’s Concerto in D Majo
 r for Violin and Orchestra and BEETHOVEN’s Overture to Egmont for a specia
 l one-hour concert. After the concert\, a dazzling after-party will conclu
 de the evening. Full-evening Gala tickets start at $1\,500 each and includ
 e the pre-concert reception\, dinner\, premium concert hall seating and th
 e After-Party. Tickets for the concert and after-party only start at $110
  This year is especially meaningful as the DSO celebrates its 125th Annive
 rsary. The annual Symphony Gala is one of the Dallas Symphony Orchestra’s
  largest annual fundraisers\, benefitting the DSO’s life-changing educatio
 n and community outreach initiatives\, including Young Strings and Young M
 usicians. These programs touch the lives of more than 243\,000 North Texas
  residents annually\, including more than 30\,000 children.\nDallas Sympho
 ny Orchestra\n2301 Flora St.\nDallas\, TX 75201 United States\n
LOCATION:2301 Flora St.\, Dallas\, TX 75201
URL:http://parkcities.bubblelife.com/community/gangway_advertising/library/
 35882654/key/3511749463/2025_Dallas_Symphony_Orchestra_Gala
CREATED:20250820T162005Z
LAST-MODIFIED:20250820T162005Z
DTSTAMP:20260424T062845Z
CLASS:PUBLIC
STATUS:CONFIRMED
TRANSP:TRANSPARENT
SEQUENCE:1
END:VEVENT
END:VCALENDAR
