BEGIN:VCALENDAR
VERSION:2.0
BEGIN:VEVENT
UID:58467687-640A-445B-AF98-43B7D03D967E
DTSTART:20251003T193000Z
DTEND:20251003T210000Z
SUMMARY:Noises Off
DESCRIPTION:Farce-tastic frenzy\, laugh riot unleashed! \n Witness the ulti
 mate theatrical meltdown with Michael Frayn’s uproarious classic British c
 omedy\,  Noises Off \, presented by Dallas Theater Center . This play-with
 in-a-play plunges you into the chaotic world of “Nothing’s On\,” a fiction
 al touring production tormented by backstage romances and onstage blunders
 . From flubbed lines to slamming doors\, witness the hilarious unraveling
  of a troupe of eccentric actors.  Noises Off  guarantees an evening of pu
 re\, unadulterated hilarity. Don’t miss this beloved farce that  The New Y
 ork Times  legendary theater critic\, Frank Rich\, called\, “the single fu
 nniest play I ever saw.” \n \n Show Details:  Noises Off is a classic Brit
 ish farce\, which contains mild profanity and moments of bawdiness\, prima
 rily used for comedic effect.\nKalita Humphreys Theater\n3636 Turtle Creek
  Blvd\nDallas\, TX 75204 United States\n
LOCATION:3636 Turtle Creek Blvd\, Dallas\, TX 75204
URL:http://parkcities.bubblelife.com/community/gangway_advertising/library/
 35882654/key/3511746044/Noises_Off
CREATED:20250813T141333Z
LAST-MODIFIED:20250813T141333Z
DTSTAMP:20260424T075514Z
RRULE:FREQ=DAILY;UNTIL=20251023T000000Z;WKST=FR
CLASS:PUBLIC
STATUS:CONFIRMED
TRANSP:TRANSPARENT
SEQUENCE:1
END:VEVENT
END:VCALENDAR
