BEGIN:VCALENDAR
VERSION:2.0
BEGIN:VEVENT
UID:8072F299-04CB-4FAE-9ABC-394706F5E806
DTSTART:20220920T180000Z
DTEND:20220920T210000Z
SUMMARY:Power of Prevention featuring Scotty Alexander
DESCRIPTION:Join Recovery Resource Council for a concert featuring Country
  music star\, Scotty Alexander on Tuesday\, September 20\, 2022\, at the f
 amed Kessler Theater. Scotty is a Texas country singer/songwriter who is n
 ominated as “Fiddler of the Year” in this year’s Texas Country Music Award
 s. Scotty will perform a high-energy stage show of classic Country sounds
  will have your toes tappin’. Tickets start at $200 to attend in-person or
  $100 to watch virtually. Proceeds from this event will benefit the Recove
 ry Resource Council\, North Texas’ largest non-residential non-profit orga
 nization dedicated to the prevention\, intervention\, treatment and recove
 ry of thousands of individuals and families struggling with alcohol\, subs
 tance misuse and trauma. Tickets available at  https://recoverycouncil.org
 /event_list/power-of-prevention/\nKessler Theater\n1230 Davis St\nDallas\,
  TX 75208 United States\n
LOCATION:1230 Davis St\, Dallas\, TX 75208
URL:http://parkcities.bubblelife.com/community/gangway_advertising/library/
 35882654/key/3511694412/Power_of_Prevention_featuring_Scotty_Alexander
CREATED:20220815T213238Z
LAST-MODIFIED:20220815T213238Z
DTSTAMP:20260424T093005Z
CLASS:PUBLIC
STATUS:CONFIRMED
TRANSP:TRANSPARENT
SEQUENCE:1
END:VEVENT
END:VCALENDAR
