BEGIN:VCALENDAR
VERSION:2.0
BEGIN:VEVENT
UID:85BC1F47-F7CE-4F3D-AF08-497B53F3118E
DTSTART:20220919T080000Z
DTEND:20220919T090000Z
SUMMARY:CARE-Dallas Brekfast fundraiser
DESCRIPTION:https://www.care-dallas.org \n  \n \n \n \n \n \n Plans are und
 erway for the 38th Annual CARE Breakfast\, and we invite you to participat
 e. Our keynote speaker is a great friend of CARE and the North Dallas Comm
 unity\, Barbara Dixon Ryan. Barbara will speak about her experiences of li
 ving with someone who has a substance use disorder and how she persevered
  through the guilt\, anger\, and pain she was experiencing. Barbara Dixon
  Ryan is an author\, lawyer\, substance use disorder counselor and peer re
 covery specialist. In her latest book\, When Someone You Love is Addicated
  to Something You Hate\, she explains how poor choices lead to organic bra
 in changes that often necessitate a different strategy. Words alone rarely
  work. Please register now and plan to join us for an informative talk fro
 m our friend and addiction expert\, Barbara Ryan Dixon.   \n 38th Annual C
 are Breakfast   \n When Someone You Love is Addicted to Something You Hate
  Keynote Speaker:  Barbara Dixon Ryan Monday\, September 19th\, 2022 at 8:
 00 a.m. Dallas Country Club\nDallas CountryClub\nDallas\, TX 75205 United
  States\n
LOCATION:Dallas\, TX 75205
URL:http://parkcities.bubblelife.com/community/parkcities_calendar/library/
 3560452/key/3511694210/CARE-Dallas_Brekfast_fundraiser
CREATED:20220816T202243Z
LAST-MODIFIED:20220816T202243Z
DTSTAMP:20260425T032746Z
RRULE:FREQ=YEARLY;BYMONTH=9;BYMONTHDAY=1
CLASS:PUBLIC
STATUS:CONFIRMED
TRANSP:TRANSPARENT
SEQUENCE:1
END:VEVENT
END:VCALENDAR
