BEGIN:VCALENDAR
VERSION:2.0
BEGIN:VEVENT
UID:2275461B-C0BB-4E0D-8B22-6C65954418B3
DTSTART:20230227T180000Z
DTEND:20230227T210000Z
SUMMARY:13th Annual Symphony of Chefs benefiting KidLinks
DESCRIPTION:Symphony of Chefs is an evening of culinary composition benefit
 ting KidLinks and the ultimate chef-driven culinary dinner experience! You
 r evening begins with a Featured Hors d’oeuvre Chef preparing delicious ca
 nape´s during the cocktail reception\, followed by a seated dinner where a
 pproximately 28 of Dallas’ most notable chefs will prepare a four-course d
 inner tableside for guests with wine pairings from some of the world’s bes
 t vineyards. Following the coursed meal\, two Featured Pastry Chefs create
  masterful desserts as an end note to the evening. The evening will includ
 e a silent auction of experiences and much more!  Funds raised from this e
 vent will support KidLinks efforts to provide Healing\, Hope and Happiness
  for the special needs of children through music and media. For more infor
 mation\, visit www.kidlinks.org .\nArmstrong Fieldhouse at SMU\n6024 Bisho
 p Blvd\nDallas\, TX 75205 United States\n
LOCATION:6024 Bishop Blvd\, Dallas\, TX 75205
URL:http://parkcities.bubblelife.com/community/gangway_advertising/library/
 35882654/key/3511594854/13th_Annual_Symphony_of_Chefs_benefiting_KidLinks
CREATED:20230110T160631Z
LAST-MODIFIED:20230110T160631Z
DTSTAMP:20260424T075513Z
CLASS:PUBLIC
STATUS:CONFIRMED
TRANSP:TRANSPARENT
SEQUENCE:1
END:VEVENT
END:VCALENDAR
