BEGIN:VCALENDAR
VERSION:2.0
BEGIN:VEVENT
UID:932141E3-EC4A-4B24-A1D1-4540E892283D
DTSTART:20230401T170000Z
DTEND:20230401T235900Z
SUMMARY:Broadway Dallas 2023 Gala: Moulin Rouge
DESCRIPTION:Join Gala Honorary Chairs Ambassador Kathryn Walt Hall and Crai
 g Hall\, along with Gala Chairs   Jolie Humphrey and Gail Plummer\, for a
  spectacular evening celebrating the Best of Broadway and featuring a full
  performance of the blockbuster musical MOULIN ROUGE! You will start the e
 vening at a cocktail reception followed by a pre-show dinner. \nFollowing
  the full performance of MOULIN ROUGE! The Musical with complimentary inte
 rmission cocktails\, you’ll then have access to the After-Hours experience
  featuring French-inspired fare\, a full flowing bar\, tunes spun by DJ Sh
 eka\, plus a special performance by Trap Opera Star Madelyn Brené and more
  sparkling surprises throughout the night! Lastly\, enjoy a late-night sna
 ck from Fletcher’s Original Corny Dogs food truck as you head home. Compli
 mentary valet parking is included. Click HERE for more information and tic
 ket options.  \nEvent proceeds support the nonprofit mission of Broadway D
 allas to spread the gift of Broadway to more than 40\,000 students and the
 ir families each year including 3\,400 Dallas ISD students and more than 5
 \,000 students from 72 schools who participate in our High School Musical
  Theatre Awards.\nMusic Hall at Fair Park\n909 1st Ave.\nDallas\, TX 75210
  United States\n
LOCATION:909 1st Ave.\, Dallas\, TX 75210
URL:http://parkcities.bubblelife.com/community/gangway_advertising/library/
 35882654/key/3511593101/Broadway_Dallas_2023_Gala_Moulin_Rouge
CREATED:20230118T194557Z
LAST-MODIFIED:20230118T194557Z
DTSTAMP:20260424T075513Z
CLASS:PUBLIC
STATUS:CONFIRMED
TRANSP:TRANSPARENT
SEQUENCE:1
END:VEVENT
END:VCALENDAR
