BEGIN:VCALENDAR
VERSION:2.0
BEGIN:VEVENT
UID:4DD821BA-21F4-4AF4-A081-76C71EA4A7AD
DTSTART:20230425T110000Z
DTEND:20230425T130000Z
SUMMARY:The Azalea Luncheon benefiting Turtle Creek Associ
DESCRIPTION:About the event: Champagne Reception begins at 11:00 a.m. Fashi
 on Presentation by Betty Reiter Turtle Creek update presented by JD Truebl
 ood\, President & CEO of Turtle Creek Association Three-Course Lunch Compl
 imentary Valet Parking \n Ticket prices vary: There are a limited number o
 f regular tickets priced at $275. Patron Level tickets begin at $350. Tabl
 e Sponsorship begin at $5000. Other sponsorship opportunities are availabl
 e\, please contact the TCA for additional information. Tickets can be purc
 hased online at www.Turtlecreekassociation.org    \n Contact for More Info
 rmation:  Sharon Ballew\, Vice President of Development\, Sharon@Turtlecre
 ekassociation.org  or call (214) 526-2800   \n Who:           Deborah Stan
 ford\, Honorary Chair \n                   Sharon Ballew\, Luncheon Chair
  \n                   JD Truelove\, CEO\, Turtle Creek Association \n Abou
 t Betty Reiter \nBetty Reiter is a unique Dallas boutique in The Plaza at
  Preston Center that sells luxury European sportswear.  Most designers are
  exclusive\, and represent Italy\, Germany\, Japan\, England\, France and
  the USA. For 20 years this Dallas boutique has catered to women with a se
 nse of style and a flair for clean\, European designer fashion. A native o
 f Paris\, France\, Betty has fashion in her blood\, as her father was a so
 ught-after fashion photographer in the City of Light. That\, along with gr
 owing up in the most stylish city in the world\, helped shape her chic vis
 ion. Exclusive lines such as Krizia\, and\, most notably\, Yeohlee\, have
  that 'je ne sais quoi' that droves of ladies wish to have in their wardro
 bes.  You can expect beautifully sculptural clothing - exquisite fabrics -
  urban style clothing - which have a deliberate artful quality to them. In
  1969 Betty moved from Paris to New York and worked for the prestigious Yv
 es St. Laurent for three years.  Betty came to Dallas in 1981 where she im
 mediately joined the Loretta Blum Boutique in Highland Park.  Betty still
  travels to Paris and Milan several times a year finding the latest trends
  and fashions. https://www.bettyreiter.com/index.html    \n About Turtle C
 reek Association \nAll net proceeds of the Azalea Luncheon benefit the Tur
 tle Creek Association\, a 501(c)3 nonprofit organization\, whose mission i
 s to be the primary guardian\, advocate\, and champion that leads in the p
 reservation\, enhancement\, and protection of Turtle Creek.  \nIn addition
 \, the Turtle Creek Association provides for seasonal color changes along
  the creek\, irrigation and watering\, litter and trash cleanup\, maintain
 s 25 landscaped medians\, helps to preserve 2\,600 trees that provide a ha
 bitat for wildlife and provide the funds for drinking fountains\, trash ca
 ns and benches throughout the park.  All of this is accomplished without c
 ity funding. www.Turtlecreekassociation.org \n About Deborah Stanford\, Ho
 norary Chair \nDeborah has over 35 years of P & L management experience\,
  workforce transformation\, operational leadership\, governance\, and publ
 ic accounting tax expertise.  She is a former senior partner and business
  leader with EY.  \nIn addition to her corporate experience\, Deborah has
  served as Board Chair of the North Texas March of Dimes\, VP – Developmen
 t for the Dallas Children’s Theater\, the Executive Committee of Junior Ac
 hievement of Dallas and has served on the SMU Accounting Advisory board. \
 nDeborah continues to give back to her community by serving on several non
 profit boards throughout the Dallas Metroplex area.  She has served on the
  Turtle Creek Association for over 11 years and is currently Chair Elect.\
 nRosewood Mansion on Turtle Creek\n2821 Turtle Creek Boulevard\nDallas\, T
 X 75219 United States\n
LOCATION:2821 Turtle Creek Boulevard\, Dallas\, TX 75219
URL:http://parkcities.bubblelife.com/community/parkcities_calendar/library/
 3560452/key/3511571714/The_Azalea_Luncheon_benefiting_Turtle_Creek_Associ
CREATED:20230323T210405Z
LAST-MODIFIED:20230323T210405Z
DTSTAMP:20260421T003216Z
CLASS:PUBLIC
STATUS:CONFIRMED
TRANSP:TRANSPARENT
SEQUENCE:1
END:VEVENT
END:VCALENDAR
