BEGIN:VCALENDAR
VERSION:2.0
BEGIN:VEVENT
UID:F94BC5D3-E7B9-45AE-9764-5BF242EFE0A2
DTSTART:20230509T110000Z
DTEND:20230509T130000Z
SUMMARY:35th Annual Stars in Recovery Luncheon
DESCRIPTION:The 35 th Annual Clifton Morris and Jim Bradshaw Memorial Stars
  in Recovery Luncheon will take place on Tuesday\, May 9\, 2023\, at River
  Ranch Stockyards. This year’s featured speaker will be recording artist H
 ilary Roberts\, a singer and songwriter who uses the darkness of her past
  to inspire and empower others. After suffering many years of trauma\, tor
 ture and abuse\, Roberts made the decision not to deal with those demons a
 lone. On May 9\, 1997\, she reached out to a mentor who offered her soluti
 ons and a way of life that helped her start her recovery journey. Join us
  at this event to learn more about her story as she celebrates another rec
 overy milestone. \n  \nTo honor her late husband\, Clifton Morris\, this y
 ear’s presenting sponsor is Sheridan Morris. Clifton Morris was a Fort Wor
 th native and a strong supporter of Recovery Resource Council and the loca
 l recovery community. Since its inception\, the annual Stars in Recovery L
 uncheon has featured well-known and beloved celebrities speaking publicly
  about their paths to recovery from alcohol/substance misuse and mental he
 alth issues. Tickets are available for $250 . \n  \nProceeds from this eve
 nt will benefit Recovery Resource Council\, the most comprehensive nonprof
 it behavioral healthcare provider in North Texas\, whose mission is to pro
 mote wellness and recovery from disorders relating to alcohol\, substance
  use\, trauma\, and mental health.\nRiver Ranch Stockyards\n500 NE 23rd St
 \nFort Worth\, TX 76164 United States\n
LOCATION:500 NE 23rd St\, Fort Worth\, TX 76164
URL:http://parkcities.bubblelife.com/community/gangway_advertising/library/
 35882654/key/3511539033/35th_Annual_Stars_in_Recovery_Luncheon
CREATED:20230313T165646Z
LAST-MODIFIED:20230313T165646Z
DTSTAMP:20260424T075514Z
CLASS:PUBLIC
STATUS:CONFIRMED
TRANSP:TRANSPARENT
SEQUENCE:1
END:VEVENT
END:VCALENDAR
