BEGIN:VCALENDAR
VERSION:2.0
BEGIN:VEVENT
UID:27109D44-BAAD-4A42-B0DD-A47745A6845E
DTSTART:20250502T180000Z
DTEND:20250502T223000Z
SUMMARY:Centerstage 41 benefiting Dallas Theater Center
DESCRIPTION:On Friday\, May 2\, 2025\,  Dallas Theater Center ’s annual fun
 draising event will take place at Fashion Industry Gallery (F.I.G.) in the
  Dallas Arts District. Themed TAKE A BOW\, the highly anticipated fête mar
 ks the 41st year for the annual Centerstage gala. Hamilton A Sneed is retu
 rning as this year's Event Chair and will oversee the cabaret-jazz-inspire
 d evening of multimedia and fine dining which includes a champagne cocktai
 l reception highlighting the Public Works education and community engageme
 nt programs\, followed by a seated dinner and program honoring Joel Ferrel
 l\, the 2025 Linda and Bill Custard Award honoree\, along with a vibrant l
 ive auction & paddle raise. The night will end with musical performances b
 y the Diane & Hal Brierley Resident Acting Company and celebrated members
  of the theater community. Funds raised from Centerstage make it possible
  for DTC to continue the inclusive and creative work of the organization.
  For tickets and more information\, visit  https://dallastheatercenter.org
 /gala/ .\nFashion Industry Gallery\n1807 Ross Ave\nDallas\, TX 75201 Unite
 d States\n
LOCATION:1807 Ross Ave\, Dallas\, TX 75201
URL:http://parkcities.bubblelife.com/community/gangway_advertising/library/
 35882654/key/3511399172/Centerstage_41_benefiting_Dallas_Theater_Center
CREATED:20250311T163712Z
LAST-MODIFIED:20250311T163712Z
DTSTAMP:20260424T075454Z
CLASS:PUBLIC
STATUS:CONFIRMED
TRANSP:TRANSPARENT
SEQUENCE:1
END:VEVENT
END:VCALENDAR
