BEGIN:VCALENDAR
VERSION:2.0
BEGIN:VEVENT
UID:5993A44F-C6E4-46B5-99B8-C4DFC2AE31BB
DTSTART:20250412T100000Z
DTEND:20250412T140000Z
SUMMARY:Pet Adoption Event at Broken Yolk Cafe
DESCRIPTION:Join Broken Yolk Cafe for a Pet Adoption event on April 12\, 10
 a-2p and m ake a  p awsitive  i mpact  in an animal's life ! Second Chance
  SPCA will be onsite in the District 121 courtyard behind Broken Yolk Cafe
  with dogs available for adoption.  Since 2006 \,  Second Chance SPCA  has
   rescue d  at-risk cats and dogs from local municipal shelters. T hey  su
 pply them with needed medical care\, food and shelter. Just as important\,
  t hey  provide all of t hese  cats and dogs with the love and attention t
 hey deserve until they are placed into their “furever homes”.\nBroken Yolk
  Cafe\n6651 Alma Rd\, Suite 250\nMcKinney\, TX 75070 United States\n
LOCATION:6651 Alma Rd\, Suite 250\, McKinney\, TX 75070
URL:http://parkcities.bubblelife.com/community/gangway_advertising/library/
 35882654/key/3511393531/Pet_Adoption_Event_at_Broken_Yolk_Cafe
CREATED:20250318T202927Z
LAST-MODIFIED:20250318T202927Z
DTSTAMP:20260424T075513Z
CLASS:PUBLIC
STATUS:CONFIRMED
TRANSP:TRANSPARENT
SEQUENCE:1
END:VEVENT
END:VCALENDAR
