BEGIN:VCALENDAR
VERSION:2.0
BEGIN:VEVENT
UID:032DF1DB-1346-407B-A0EB-0C77E12301CD
DTSTART:20250726T090000Z
DTEND:20250726T133000Z
SUMMARY:Carter BloodCare Blood Drive
DESCRIPTION:Give the gift of life during the Carter BloodCare donation driv
 e on Saturday\, July 26 outside Broken Yolk Cafe at District 121 in McKinn
 ey. The bus will be parked on-site\, ready to accept blood donations from
  eligible community members. Registration in advance is suggested but not
  required.  \nEvery three seconds\, someone in the U.S. needs blood for li
 fesaving treatments including surgeries\, trauma recovery and cancer care.
  Although 4.5 million lives are saved each year through blood transfusions
 \, only about 3 percent of eligible people donate. Just one donation can h
 elp save lives—and it starts with you. \nTo donate you must be in good hea
 lth\, at least 16 years old\, weigh 110 pounds or more\, and feel well on
  the day of your donation. Sixteen-year-old donors must bring a signed par
 ental consent form—parental consent is not required for ages 17 and older.
  Plan to attend and make a meaningful difference in someone’s life. Select
  a time slot HERE .\nBroken Yolk Cafe\n6651 Alma Rd\, Suite 250\nMcKinney\
 , TX 75070 United States\n
LOCATION:6651 Alma Rd\, Suite 250\, McKinney\, TX 75070
URL:http://parkcities.bubblelife.com/community/gangway_advertising/library/
 35882654/key/3511375452/Carter_BloodCare_Blood_Drive
CREATED:20250721T141152Z
LAST-MODIFIED:20250721T141152Z
DTSTAMP:20260424T075455Z
CLASS:PUBLIC
STATUS:CONFIRMED
TRANSP:TRANSPARENT
SEQUENCE:1
END:VEVENT
END:VCALENDAR
