BEGIN:VCALENDAR
VERSION:2.0
BEGIN:VEVENT
UID:A659CE27-F70A-48BF-A1B8-BE1CE1315A39
DTSTART:20241223T140000Z
DTEND:20241223T183000Z
SUMMARY:Bel Air Ranch Herb & Spice Co. Tasting Demo
DESCRIPTION:Bel Air Ranch Herb & Spice Co. has partnered with Hartley Ranch
  to host a holiday demonstration and tasting. Stop by to learn how to make
  a whole rack choice bone-in prime rib and enjoy tastings served with trad
 itional sides of creamed spinach and mashed potatoes with prime rib au jus
 . Just in time for the holidays\, Bel Air Ranch has just launched a full l
 ine of six NEW seasoning blends exclusively at Central Market to bring a n
 ew depth of flavor to any dish or type of cuisine. \n  \nFlavor options in
 clude: Bel Air Mediterranean (Greek herbs\, Lemon\, Red Pepper) Bel Air Br
 isket BBQ Bel Air Bird (13 Secret Herbs & Spices) Bel Air Steak & Prime Ri
 b (Black Pepper\, Thyme\, Garlic\, Rosemary) Bel Air Blackening (Oriental
  Hot Mustard\, Cayenne\, Oregano) Bel Air Smokey (Chipotle\, Coriander\, O
 regano\, Cayenne) \n  \nBel Air Ranch Herb & Spice can be found in the mea
 t department at all ten Texas Central Market stores in Austin\, Dallas\, F
 ort Worth\, Houston\, Plano\, San Antonio\, and Southlake. All flavors are
  packaged in resealable 2 oz. bags and retail for $5.99. Learn more at Eat
 BelAir.com .\nCentral Market\n4349 W Northwest Hwy\nDallas\, TX 75220 Unit
 ed States\n
LOCATION:4349 W Northwest Hwy\, Dallas\, TX 75220
URL:http://parkcities.bubblelife.com/community/gangway_advertising/library/
 35882654/key/3511364382/Bel_Air_Ranch_Herb_Spice_Co._Tasting_Demo
CREATED:20241211T191538Z
LAST-MODIFIED:20241211T191538Z
DTSTAMP:20260424T111404Z
CLASS:PUBLIC
STATUS:CONFIRMED
TRANSP:TRANSPARENT
SEQUENCE:1
END:VEVENT
END:VCALENDAR
