BEGIN:VCALENDAR
VERSION:2.0
BEGIN:VEVENT
UID:85C0F90B-470B-44F8-A744-B23949EEC3F7
DTSTART:20250910T180000Z
DTEND:20250910T220000Z
SUMMARY:2nd Annual State Fair Saddle Up Concert
DESCRIPTION:Pull out your best Western chic attire and git ready to  Saddle
  Up for a rootin’-tootin’ kickoff of the 2025 State Fair of Texas! Round u
 p your posse and enjoy a night of high-spirited fun under the Texas stars\
 , featuring classic Midway games\, a live auction\, and toe-tappin’ tunes
  from none other than Little Texas whose chart toppers include “What Might
  Have Been\,” “My Love\,” and the wildly popular “God Blessed Texas” which
  was recently rerecorded by Jonas Brothers frontman Joe Jonas for the HBO
  Max series\, The Righteous Gemstones. Opening for Little Texas will be Ca
 sh Byers \, most recently seen on the latest Season 8 of American Idol. \n
  Hosted by the Big Tex Champion Club\, this Fair-themed hootenanny ain’t y
 our average shindig — it’s a one-of-a-kind celebration with a heart as big
  as the Lone Star sky. Every dollar raised helps support young’uns across
  Texas through the Big Tex Livestock Auction and Scholarship Programs. So
  dust off your boots\, grab your hat\, and join us for a night of good tim
 es for a great cause! \n Tickets start at $200. Visit  https://bigtex.mura
 dbid.com/ for more information.\nThe Rustic\n3656 Howell Street\nDallas\,
  TX 75204 United States\n
LOCATION:3656 Howell Street\, Dallas\, TX 75204
URL:http://parkcities.bubblelife.com/community/gangway_advertising/library/
 35882654/key/3511335212/2nd_Annual_State_Fair_Saddle_Up_Concert
CREATED:20250619T162313Z
LAST-MODIFIED:20250619T162313Z
DTSTAMP:20260424T062803Z
CLASS:PUBLIC
STATUS:CONFIRMED
TRANSP:TRANSPARENT
SEQUENCE:1
END:VEVENT
END:VCALENDAR
