BEGIN:VCALENDAR
VERSION:2.0
BEGIN:VEVENT
UID:94DD8BD3-1C76-43B8-A37D-A14CEF8613EC
DTSTART:20250510T100000Z
DTEND:20250510T130000Z
SUMMARY:Broken Yolk Cafe To Host Pet Adoption
DESCRIPTION:Join Broken Yolk Cafe   and Collin County Animal Services (CCAS
 ) for a pet adoption event on May 10th from 10am -1pm.  This fun-filled ad
 option event will make a pawsitive impact for many animals!  CCAS will be
  on-site with their adoption trailer filled with amazing dogs that are rea
 dy for their furever homes. Meet at the District 121 courtyard behind Brok
 en Yolk Café to get some cuddles\, some slobbery kisses and maybe even fin
 d your new best friend! Broken Yolk Cafe is located at District 121\, 6651
  Alma Rd Suite 250\, McKinney\, TX 75070. Ample lot parking will be availa
 ble.\nBroken Yolk Cafe\n6651 Alma Rd\, Suite 250\nMcKinney\, TX 75070 Unit
 ed States\n
LOCATION:6651 Alma Rd\, Suite 250\, McKinney\, TX 75070
URL:http://parkcities.bubblelife.com/community/gangway_advertising/library/
 35882654/key/3511325801/Broken_Yolk_Cafe_To_Host_Pet_Adoption
CREATED:20250421T172116Z
LAST-MODIFIED:20250421T172116Z
DTSTAMP:20260424T062727Z
CLASS:PUBLIC
STATUS:CONFIRMED
TRANSP:TRANSPARENT
SEQUENCE:1
END:VEVENT
END:VCALENDAR
