BEGIN:VCALENDAR
VERSION:2.0
BEGIN:VEVENT
UID:E6775EA5-E563-46B5-ACCF-26DEBBDEDDAC
DTSTART:20240523T190000Z
DTEND:20240523T200000Z
SUMMARY:90th Anniversary of the Bonnie and Clyde Ambush
DESCRIPTION:An Evening With!  Dr. Jody Edward Ginn and the 90 th Anniversar
 y of the Bonnie and Clyde Ambush  Presented by the Dallas Historical Socie
 ty and the Texas Rangers Association Foundation \n \nStep back in time and
  immerse yourself in history at an exclusive event presented by the Dallas
  Historical Society and the Texas Rangers Association Foundation. This uni
 que occasion marks the 90th anniversary of the infamous end of Bonnie and
  Clyde.          \nFeaturing an esteemed panel of guests\, including David
  Born (Sheriff Jordan) and Dean Denton (Deputy Bob Alcorn) from the acclai
 med Netflix Original Film\, The Highwaymen\, alongside Mike Gault \, the g
 reat-grandson of Texas Ranger Maney Gault \, and Dr. Jody Edward Ginn of t
 he Texas Rangers Hall of Fame/Museum. Guiding the discussion is Justice Ke
 n Wise \, host of the popular Wise About Texas podcast.          \nThe pan
 el will delve into the true Bloody Legacy of Bonnie and Clyde\, exploring
  the enduring impact of their story across various mediums\, notably featu
 re films.          \nGain insight firsthand as The Highwaymen co-stars rec
 ount their experiences filming the iconic ambush scene at the very site of
  Bonnie and Clyde’s demise.          \nIt’s all happening at the Hall of S
 tate at Fair Park on Thursday\, May 23\, 2024 at 7:00 p.m. Free and open t
 o the public. Advance registration is requested. Parking is free. CPE cred
 it is available for educators.           \nAs an extra treat\, there is a
  VIP reception complimentary to DHS members at the Collectors Level and ab
 ove or $30 per person. Light snacks and refreshments are available. Get yo
 ur tickets here:  https://www.dallashistory.org/event/bonnie-clyde-vip-mee
 t-greet-with-dr-jody-ginn/?instance_id=728              \nDr. Ginn will ex
 plore the careers of the notorious outlaw couple\, emphasizing the impact
  of their crimes on the victims and families affected by their crime spree
 . Dr. Ginn is a former law enforcement investigator/administrator and U.S.
  Army veteran who has worked for over two decades as a public historian. H
 e is the author of Palmito Ranch: From Civil War Battlefield to National H
 istoric Landmark and East Texas Troubles: The Allred Rangers’ Cleanup of S
 an Augustine.          \nMost recently\, he served as historical consultan
 t for publicity on the blockbuster Netflix Original Film\, “The Highwaymen
 ” (starring Kevin Costner\, Woody Harrelson\, Kathy Bates\, and Kim Dicken
 s) and has been quoted in USAToday\, Time Magazine\, the UK Daily Mirror\,
  and Bustle.com.          \nWhile you are at the Hall of State\, don’t mis
 s the interactive massive diorama of the Alamo\,  Texas Liberty Forever \,
   (  https://www.dallashistory.org/exhibitions/  ) and use the iPads to he
 ar the sounds of the battle\, see close-up images and hear brief explanati
 ons of the different scenes. The app can also be downloaded to your own ce
 ll phone to experience this fabulous diorama.           \n Karl Chiao is t
 he executive director of the Dallas Historical Society and Dr. Roy Washbur
 n is board chair.                 \nFor more information\, the public can
  contact the office assistant at assistant@dallashistory.org    or call 21
 4-421-4500. Or visit the website at  https://www.dallashistory.org/program
 s/ \n The Dallas Historical Society: Whether someone is new to Dallas or a
  native Texan\, the Dallas Historical Society offers programs and exhibits
  that educate and inform visitors about their home city and reveal insight
 s and little-known facts that one might be unable to attain from history b
 ooks alone\, especially with the museum’s newest permanent exhibit\, the i
 nteractive Texas Liberty Forever: The Battle of the Alamo diorama by Thoma
 s Feely. \nOngoing events include Brown Bag Lectures\, An Evening With pro
 grams\, and Pour Yourself Into History happy hours. Join in discovering mo
 re about Dallas and take part in one or more of these wonderful programs.
  Visit the website for more information at www.dallashistory.org \n  \n Th
 e Dallas Historical Society Celebrated Its Centennial Year In 2022 \n  \nT
 he stories of Dallas are shared each day at the Dallas Historical Society
  through the three million items that comprise our archives and artifact c
 ollections. Established in 1922\, the Dallas Historical Society collects\,
  preserves\, and exhibits the unique heritage of Dallas and Texas to educa
 te and inspire future generations. \n  \nHoused at the Hall of State in Fa
 ir Park since 1938\, DHS presents these collections through education prog
 rams\, exhibitions\, tours\, access to research materials and workshops.
   \n  \nAmong the three million historical artifacts at DHS are such treas
 ures as Sam Houston’s handwritten account of the Battle of San Jacinto\, t
 he only known original Juneteenth document\, James Fannin’s watch\, and Sa
 nta Anna’s spurs. The DHS collection houses over 10\,000 bound volumes and
  receives more than 1\,500 research requests annually. \n  \nEach year\, t
 he Dallas Historical Society is visited by over 160\,000 people and serves
  more than 20\,000 students through guided tours and educational programmi
 ng at the Hall of State\, as well as outreach programs at schools. Visit t
 he website for more information at www.dallashistory.org\nHall of State at
  Fair Park\n3939 Grand Avenue\nDallas\, TX United States\n
LOCATION:3939 Grand Avenue\, Dallas\, TX
URL:http://parkcities.bubblelife.com/community/adams_communications_public_
 relations/library/35562441/key/3511270692/90th_Anniversary_of_the_Bonnie_a
 nd_Clyde_Ambush
CREATED:20240516T194839Z
LAST-MODIFIED:20240516T194839Z
DTSTAMP:20260421T003845Z
CLASS:PUBLIC
STATUS:CONFIRMED
TRANSP:TRANSPARENT
SEQUENCE:1
END:VEVENT
END:VCALENDAR
