BEGIN:VCALENDAR
VERSION:2.0
BEGIN:VEVENT
UID:C797780B-AC75-4972-99E3-CB7CB9B46D6A
DTSTART:20240331T120000Z
DTEND:20240331T160000Z
SUMMARY:Coupes To Offer Easter Brunch
DESCRIPTION:This Easter\, Coupes is offering guests a delightful way to sav
 or the taste of France in the heart of Highland Park through their new bru
 nch menu  created by Chef Diana Zamora (which will launch March 10). Highl
 ights will include starters such as Amanda's Pomme Frites\, waffle cut tru
 ffle parmesan fries served with a lemon aioli dipping sauce\; Gougeres\, a
  savory pate choux pastry with a gruyere crème\; and Deviled Eggs and Cavi
 ar. Entrees include standouts such as Brioche French Toast served with a l
 emon curd\, fresh berry syrup\, and vanilla Chantilly\; Crepes with a swee
 t Fromage blanc\, raspberries\, Parisian chocolate sauce\, and vanilla cha
 ntilly\; and a Croque Madame with a house made brioche\, rosemary ham\, gr
 uyere\, bechamel\, and topped with sunny side up egg.  For Easter Sunday o
 nly\, the menu will include  Hot Cross Buns and a Lobster Benedict.  \n
    \n Coupes offers over a dozen champagnes and sparkling wines by the gla
 ss and 50 labels by the bottle designed for everyday celebrations and conv
 ersation.  On Sundays\, g uests can also take advantage of  50% off all bo
 ttles priced at $150 and under .  Channeling the sophisticated nature of F
 rance\, the à la mode setting establishes Coupes as an elegant\, French-in
 spired space with a Texas accent. The luxurious booth seating and circular
  bar are a welcoming and joyful environment to celebrate\, to spark romanc
 e\, or to indulge yourself by drinking champagne for no reason at all. \n
  Coupes is located at The Shops at Highland Park at 4234 Oak Lawn Ave\, Da
 llas\, TX 75219 \,  (214) 434-1347\,  https://www.coupesdallas.com/.  Rese
 rvations can be made via Tock\, but walk-ins are always welcome.\nCoupes\n
 4234 Oak Lawn Ave\nDallas\, TX 75219 United States\n
LOCATION:4234 Oak Lawn Ave\, Dallas\, TX 75219
URL:http://parkcities.bubblelife.com/community/gangway_advertising/library/
 35882654/key/3511261990/Coupes_To_Offer_Easter_Brunch
CREATED:20240305T163441Z
LAST-MODIFIED:20240305T163441Z
DTSTAMP:20260424T075455Z
CLASS:PUBLIC
STATUS:CONFIRMED
TRANSP:TRANSPARENT
SEQUENCE:1
END:VEVENT
END:VCALENDAR
