BEGIN:VCALENDAR
VERSION:2.0
BEGIN:VEVENT
UID:83B19375-DC05-46CB-97AF-D8F8CBC8EC9C
DTSTART:20240331T110000Z
DTEND:20240331T200000Z
SUMMARY:Hop Over to Truluck's This Easter
DESCRIPTION:This Easter at Truluck’s\,  enjoy  the freshest seafood and sea
 sonal accompaniments  off Truluck's regular menu \, including Florida Ston
 e Crab claws\, Miso-glazed Seabass\, New England Sea Scallops and more. A
  special KIDS menu will be offered on Easter Sunday\, March 31  (a copy ca
 n be found in the link below) . Hours of Operation for Sunday\, M arch 31
   will be 11AM to 8 PM .  Reservations are highly recommended\, and can be
  made via OpenTable . \n  \nAll locations will showcase a specialty cockta
 il called  Spring Fling  cocktail ($17) that will be served March 29-31 in
  celebration of the Easter holiday. This twist on a Margarita has us think
 ing of warmer weather and tropical beaches. The guava gives this a fruity
  richness and the Spanish liqueur Licor 43 mellows with notes of vanilla a
 nd Valencia orange. Don’t be shy pairing this up with  Truluck's  salt and
  pepper calamari or blackened Pontchartrain. \n  \nVisit Truluck's in the
  DFW area in Uptown Dallas\, Southlake and Plano.  \n https://trulucks.com
 /reserve/\nTruluck's\n2401 McKinney Ave\nDallas\, TX 75201 United States\n
LOCATION:2401 McKinney Ave\, Dallas\, TX 75201
URL:http://parkcities.bubblelife.com/community/gangway_advertising/library/
 35882654/key/3511261962/Hop_Over_to_Trulucks_This_Easter
CREATED:20240305T162948Z
LAST-MODIFIED:20240305T162948Z
DTSTAMP:20260419T212653Z
CLASS:PUBLIC
STATUS:CONFIRMED
TRANSP:TRANSPARENT
SEQUENCE:1
END:VEVENT
END:VCALENDAR
