BEGIN:VCALENDAR
VERSION:2.0
BEGIN:VEVENT
UID:58A184D7-C55B-45E8-8BE0-C790D97F0BB5
DTSTART:20240326T110000Z
DTEND:20240326T130000Z
SUMMARY:Turtle Creek Association's Azalea Luncheon
DESCRIPTION:JD Trueblood \, President and CEO\, Turtle Creek Association an
 nounces Ann Stuart\, PhD\, Honorary Chair\, Mary Brinegar \, Honored Guest
  and  Sharon Ballew as chair of the Azalea luncheon.  Deborah Stanford is
  Honorary Chair Emeritus. \nEveryone is invited to join us as funds are ra
 ised to preserve\, protect and celebrate a Dallas Jewel. The morning begin
 s with a champagne reception followed by the delicious three-course lunche
 on prepared by Chef Mike McCoy \, Chef to the Shelters and a fashion prese
 ntation by Betty Reiter. \nTicket prices vary. There are a limited number
  of regular tickets priced at $275. Patron Level tickets begin at $350. Ta
 ble Sponsorship begin at $5\,000. Other sponsorship opportunities are avai
 lable\, please contact the TCA for additional information. Tickets can be
  purchased online at www.Turtlecreekassociation.org Contact Sharon Ballew\
 , Vice President of Development for more information at (214) 526-2800 . \
 n About the Turtle Creek Association: The Turtle Creek Association (TCA) i
 s a 501(c)(3) nonprofit organization dedicated to safeguarding\, preservin
 g\, and enhancing a 90-acre corridor that serves as Dallas's front yard\,
  renowned for the scenic beauty of Turtle Creek. Despite its significance\
 , Turtle Creek faces challenges as a primary recipient of stormwater runof
 f from the city. With each rainfall\, the creek becomes inundated with tra
 sh and debris\, posing threats to wildlife and impeding its natural flow.
  TCA has taken proactive measures to address this issue\, leading efforts
  in manual trash removal while actively pursuing a permanent solution. Add
 itionally\, we are committed to ensuring the sustainability and aesthetic
  appeal of Turtle Creek's landscape\, especially considering our region's
  increasingly extreme weather patterns. To achieve this\, we are transitio
 ning to native drought-resistant plant species\, fostering a resilient and
  vibrant ecosystem for future generations. Importantly\, all of these effo
 rts are being undertaken without city funding.\nHarlan Crow Library\n4700
  Preston Road\nDallas\, TX 75205 United States\n
LOCATION:4700 Preston Road\, Dallas\, TX 75205
URL:http://parkcities.bubblelife.com/community/adams_communications_public_
 relations/library/35562441/key/3511253143/Turtle_Creek_Associations_Azalea
 _Luncheon
CREATED:20240318T203141Z
LAST-MODIFIED:20240318T203141Z
DTSTAMP:20260420T231208Z
CLASS:PUBLIC
STATUS:CONFIRMED
TRANSP:TRANSPARENT
SEQUENCE:1
END:VEVENT
END:VCALENDAR
