BEGIN:VCALENDAR
VERSION:2.0
BEGIN:VEVENT
UID:9D9B53E0-5A5A-4C1B-B186-714074ABE7C3
DTSTART:20240608T193000Z
DTEND:20240608T210000Z
SUMMARY:The Doo Wop Project presents A New Doo
DESCRIPTION:The Doo Wop Project \, the dynamic\, rave-reviewed celebration
  of a beloved music genre\, has a brand new “DOO!” Starring the 5 engaging
 \, charismatic and dashing Broadway stars from smash hits like JERSEY BOYS
 \, A BRONX TALE\, BEAUTIFUL\, and MOTOWN: THE MUSICAL with their all star
  band\, this exciting new show (with a brand new setlist) features fresh r
 enditions of classic Doo Wop hits (remember “16 candles” and “In the Still
  of the Night”?) as well as “doo-wopified” versions of contemporary hits l
 ike Adele’s “Rolling in the Deep” and Garth Brooks’ “Friends in Low Places
 .” Of course they’ll keep some fan favorites in the new show – memorable n
 umbers like “Remember When” and “That’s My Desire”. If you’ve seen The Doo
  Wop Project before\, you are in for a brand new treat. If you haven’t see
 n them yet\, you’ll be treated to a fantastic evening of the greatest musi
 c in American pop and rock history…from the classic sound of five guys sin
 ging harmonies on a street corner to the biggest hits on the radio today.
  Tickets start at $49. V isit  https://attpac.org/event/the-doo-wop-projec
 t\nStruass Square\n2389 Flora Street\nDallas\, TX 75201 United States\n
LOCATION:2389 Flora Street\, Dallas\, TX 75201
URL:http://parkcities.bubblelife.com/community/gangway_advertising/library/
 35882654/key/3511232263/The_Doo_Wop_Project_presents_A_New_Doo
CREATED:20240501T200000Z
LAST-MODIFIED:20240501T200000Z
DTSTAMP:20260424T105119Z
CLASS:PUBLIC
STATUS:CONFIRMED
TRANSP:TRANSPARENT
SEQUENCE:1
END:VEVENT
END:VCALENDAR
