BEGIN:VCALENDAR
VERSION:2.0
BEGIN:VEVENT
UID:C18A3C27-0F2D-49E5-9D97-0414B6E0CE2F
DTSTART:20240601T080000Z
DTEND:20240601T120000Z
SUMMARY:2nd Annual Trinity Falls Trail Day 5k
DESCRIPTION:Register today for the 2 nd Annual Trinity Falls Trail Day 5K.
  The event is family friendly\, and strollers are welcome. The scenic race
  route will guide you around the paved trails of Trinity Falls beautiful m
 aster-planned community. Traverse the 350-acre natural park with miles of
  winding\, wooded river frontage where families explore and become one wit
 h nature. Trinity Falls chose June 1 to align with National Trails Day\, a
  nationwide event held to encourage people to discover their local trails
  and celebrate spending time outdoors. \n  \nCASH prizes will be awarded t
 o the Top Overall Males and Females: First Place ($200)\, Second Place ($1
 00) and Third Place ($50) AND the First Place Stroller Strider ($50). PLUS
  awards for the top male and female finisher in the following age groups:
  14 & under\, 15-19\, 20-29\, 30-39\, 40-49\, 50-59\, 60 & over! \n  \nAtt
 endees are encouraged to stay for the party at the finish line. There will
  be a variety of local outdoors\, recreation and fitness vendors\, a disc
  golf demonstration\, music\, photo-ops\, and food trucks onsite to purcha
 se food and drink. A ladybug release will start at 10 AM and will kick off
  with Ms. Bug reading the Grouchy Ladybug book. Little ones will have a ch
 ance to release the ladybugs and take pictures with Ms. Bug. Starting at 1
 0:00 AM\, you can tour the model homes for a chance to win a $1000 gift ce
 rtificate to Nebraska Furniture Mart. \n  \nRegistration includes entry in
 to the chip timed racecourse\, event t-shirt\, Trinity Falls Trail Day 5K
  bib\, and an awesome finishers medal! 100% of gross profits will go to lo
 cal McKinney nonprofits. This year’s beneficiaries are Children’s Health \
 , Combined Arms \, and Direction 61:3 . \n  \n COST : $30 \n  \n WEBSITE :
  https://www.trinityfalls.com/trails-day-5k-2024 \n  \n REGISTRATION: http
 s://www.eventbrite.com/e/trinity-falls-trail-day-5k-tickets-876278762367?a
 ff=erelexpmlt\nTrinity Falls\n105 Parkland Crescent\nMcKinney\, TX 75071 U
 nited States\n
LOCATION:105 Parkland Crescent\, McKinney\, TX 75071
URL:http://parkcities.bubblelife.com/community/gangway_advertising/library/
 35882654/key/3511231723/2nd_Annual_Trinity_Falls_Trail_Day_5k
CREATED:20240424T205344Z
LAST-MODIFIED:20240424T205344Z
DTSTAMP:20260424T075454Z
CLASS:PUBLIC
STATUS:CONFIRMED
TRANSP:TRANSPARENT
SEQUENCE:1
END:VEVENT
END:VCALENDAR
