BEGIN:VCALENDAR
VERSION:2.0
BEGIN:VEVENT
UID:78BD7A27-772C-4589-83BB-E2D898F1E412
DTSTART:20220428T183000Z
DTEND:20220428T220000Z
SUMMARY:Boots & Blessings Gala: A Moment in Time
DESCRIPTION:Join Ally’s Wish for a boot scootin’ great cause! The gala even
 ing will include a cocktail hour\, silent and live auction\, heavy appetiz
 ers and desserts\, and live Country-Western entertainment from The Brecken
 ridge Band. Funds raised from this event will benefit Ally’s Wish. The Flo
 wer Mound-based organization grants wishes to young mothers battling termi
 nal illnesses so they may create lasting memories with their children and
  loved ones. Individual tickets are $175 and tables of 8 are available for
  $1\,500 .\nMarty B's Rooftop\n2664 FM 407 E.\nBartonville\, TX 76226 Unit
 ed States\n
LOCATION:2664 FM 407 E.\, Bartonville\, TX 76226
URL:http://parkcities.bubblelife.com/community/gangway_advertising/library/
 35882654/key/3511162912/Boots_Blessings_Gala_A_Moment_in_Time
CREATED:20220207T215205Z
LAST-MODIFIED:20220207T215205Z
DTSTAMP:20260424T075513Z
CLASS:PUBLIC
STATUS:CONFIRMED
TRANSP:TRANSPARENT
SEQUENCE:1
END:VEVENT
END:VCALENDAR
