BEGIN:VCALENDAR
VERSION:2.0
BEGIN:VEVENT
UID:BDBA860A-6177-487A-92F3-E07BDECEACFC
DTSTART:20220622T110000Z
DTEND:20220622T130000Z
SUMMARY:Tea For Recovery
DESCRIPTION:Join Dallas 24 Hour Club for the inaugural Tea for Recovery\, c
 haired by Dr. M. Joan Terry and Rev. Tiffany Wright. The reception will ta
 ke place from 11:00am-11:30am where guests will enjoy live music from Step
 hen Nielson\, Steinway Artist and a special coffee created by Michael Wyat
 t of Full City Rooster. Guests will sit down for tea service beginning at
  11:45am. The menu will consist of pastries provided by Dunia Borga of La
  Duni Latin\, chocolates by Katherine Clapner with Dude\, Sweet Chocolate\
 , and tea sandwiches and chicken salad from Private Chef Jason Martin. Tab
 les for eight guests are available for purchase for $1\,500\, with single
  tickets available for $200. This will be a fun opportunity to take client
 s\, partners or girlfriends and help raise necessary funds for the Friends
  of The 24\, Dallas 24 Hour Club’s alumni group\, and The 24. 100% of tick
 et costs will go directly to the Friends of The 24 and The 24 to support r
 esidents who are embracing their new life off the streets and in recovery.
  COST $200 single ticket $1500 table of 8 \nTo join us please visit the si
 te below!  \n https://www.betterunite.com/dallas24hourclub-teaforrecovery\
 nDallas Women's Forum\n4607 Ross Avenue\nDallas\, TX 75204 United States\n
LOCATION:4607 Ross Avenue\, Dallas\, TX 75204
URL:http://parkcities.bubblelife.com/community/gangway_advertising/library/
 35882654/key/3511133432/Tea_For_Recovery
CREATED:20220519T200659Z
LAST-MODIFIED:20220519T200659Z
DTSTAMP:20260424T075513Z
CLASS:PUBLIC
STATUS:CONFIRMED
TRANSP:TRANSPARENT
SEQUENCE:1
END:VEVENT
END:VCALENDAR
