BEGIN:VCALENDAR
VERSION:2.0
BEGIN:VEVENT
UID:1025A0A7-439E-4190-8B16-4265DF68CAD3
DTSTART:20220529T140000Z
DTEND:20220529T180000Z
SUMMARY:Paella y Pasion
DESCRIPTION:Paella & Pasion is the perfect weekend event\, as it features f
 ood and live dancing! Join us and be amazed by a paella cooking demonstrat
 ion\, performed in front of your eyes by international chefs while enjoyin
 g live Latin dancers & musicians. Local chefs will cook their paellas whil
 e competing to win the best paella prize. \n \n \n \n \nEarly bird pricing
  end Friday: \nGet tickets before 6/4 and save: \nWe have single servings
  of Paella with a Sangria or Beer for \n$20 Or VIP with 3 servings & 3 dri
 nks for $50. \nAfter Friday 6/4: \n$25 and $60 at the door \nPaella & Pasi
 on features world class talent! Guest artist singer & guitarist Mariano Ma
 nzella headlines the ‘Flamenco de Mayo’ series that provides low-cost perf
 ormances for festivals\, restaurants\, & schools and helps us turn OC into
  a Spanish village for the day! \nThis family friendly\, outdoor event pro
 vides local Flamenco dancers\, singers\, & guitarists an exciting atmosphe
 re to perform. Costumes are encouraged\, and even for sale. Done your Span
 ish Chic or Gypsy attire and join the fun. \nGet your tickets today ! We t
 hank you for supporting local artistry. Your generosity will be reciprocat
 ed with a silk flower & polka dot scarf\, or fan\, to help patrons and the
 ir families join in the Flamenco fantasy. Bring chairs or blankets for thi
 s picnic style event. \nThis event is outdoors - with hand sanitizing stat
 ions available & social distancing encouraged for a safe environment.\nGoo
 d Space\n408 W. 8th Street\nDallas\, TX 75208 United States\n
LOCATION:408 W. 8th Street\, Dallas\, TX 75208
URL:http://parkcities.bubblelife.com/community/parkcities_calendar/library/
 3560452/key/3511101561/Paella_y_Pasion
CREATED:20220329T145018Z
LAST-MODIFIED:20220329T145018Z
DTSTAMP:20260421T103335Z
CLASS:PUBLIC
STATUS:CONFIRMED
TRANSP:TRANSPARENT
SEQUENCE:1
END:VEVENT
END:VCALENDAR
