BEGIN:VCALENDAR
VERSION:2.0
BEGIN:VEVENT
UID:AFFDA6A1-BCD6-4043-A90F-DA49061ACD5F
DTSTART:20220409T200000Z
DTEND:20220409T220000Z
SUMMARY:Flamenco Spring Residency Kickoff Performance
DESCRIPTION:Flamenco Fever kicks off the Spring Flamenco Residency featurin
 g \n Sol Koeraus “La Argentinita\,” Mariano Manzella\, Jorge Robledo\, and
  Pace de Andrea\, in his  first Texas appearance \n Residency Kickoff Perf
 ormance – Saturday\, April 9\, 2022 \n Spring Flamenco Residency – Saturda
 y\, April 1 – May 31\, 2022 \n Paella y Pasion - Sunday May 29\, 2022 \n
    \n  DALLAS – March 15\, 2022 - Flamenco Fever presents   the fourth ann
 ual Spring Flamenco Residency featuring Sol Koeraus “La Argentinita\,” dan
 cer\, Mariano Manzella\, guitarist and singer\, Jorge Robledo\, dancer\, a
 nd Paco de Andrea\, dancer\, for two months of flamenco performances\, wor
 kshops\, and classes. \nThe two-month long Spring Flamenco Residency kicko
 ffs with a Star Performance at the Latino Cultural Center featuring dancer
  Sol Koeraus. The New York Times said this of her dancing\, “the dancer So
 l\, La Argentinita\, harnessed the art form’s power with her seductively a
 ggressive soleá in which her elegant carriage provided space for tension a
 nd relief.” Joining Ms. Koeraus on the stage will be Mariano Manzella\, Lu
 ckie “Abejorro\,” Julia Alcántara\, producer and dancer\, and members of t
 he Flamenco Fever Dance Academy. \nThe Spring Flamenco Residency includes
  the 7th annual Flamenco de Mayo providing low-cost performances for festi
 vals\, restaurants\, and schools that want to celebrate Hispanic culture a
 round Cinco de Mayo. \nThe Spring Flamenco Residency culminates with Paell
 a y Pasion on Sunday\, May 29\, 2022\, featuring live flamenco performance
 s\, flamenco costumes and accessories market\, and giant paella cooked on-
 site. Special guest artist\, dancer Paco de Andrea\, from Granada\, Spain\
 , will make his first appearance in Texas during the Residency. \n “The Re
 sidency and Flamenco de Mayo bridge the access gap between traditional fla
 menco performances in formal venues and economically diverse local audienc
 es who customarily have limited or no access to such venues. These family-
 friendly events provide beginning flamenco dancers\, singers\, and guitari
 sts a relaxed atmosphere to perform and learn from more experienced artist
 s\,” said Julia Alc á ntara\, founder of Ida y Vuelta Flamenco Dance Compa
 ny. \n Spring Flamenco Residency Details \n Kickoff Performance with Sol K
 oeraus \nSaturday\, April 9\, 2022\, at 8:00 p.m. \nLatino Cultural Center
  Black Box \n2600 Live Oak Street\, Dallas 75204 \nhttp://www.flamencofeve
 r.org/purchase/llcblackboxtablao \n Residency Performances\, Workshops\, a
 nd Classes \nApril 1 through May 31\, 2022 \nhttps://www.facebook.com/iday
 vueltaflamenco/ \nLEVEL 1 \nhttp://www.flamencofever.org/purchase/workshop
 1 \nLEVEL 2 \nhttp://www.flamencofever.org/purchase/intermediateworkshop \
 nGUITAR WORKSHOP \nhttp://www.flamencofever.org/purchase/marianomanzella \
 n Flamenco de Mayo Series \nMay 1 – May 31\, 2022 \nInformation at flamenc
 o fever.org \n Paella y Pasion \nSunday May 29\, 2022\, from 2:00 to 6:00
  p.m. \nLocation Bishop Arts\, Goodspace\, 408 W. 8 th Street\, Dallas 752
 08 \nPaella purchase: $20 on site\, cash\, card\, and Venmo \nPaella y Pas
 ion VIP - $60 \nhttp://www.flamencofever.org/purchase/paellaypasionvip \nP
 aella y Pasion GA link: \nhttp://www.flamencofever.org/purchase/paellaypas
 iogenadmission\nLatino Cultural Center\n2600 Live Oak Street\nDallas\, TX
  75204 United States\n
LOCATION:2600 Live Oak Street\, Dallas\, TX 75204
URL:http://parkcities.bubblelife.com/community/parkcities_calendar/library/
 3560452/key/3511101511/Flamenco_Spring_Residency_Kickoff_Performance
CREATED:20220331T160303Z
LAST-MODIFIED:20220331T160303Z
DTSTAMP:20260421T103254Z
CLASS:PUBLIC
STATUS:CONFIRMED
TRANSP:TRANSPARENT
SEQUENCE:1
END:VEVENT
END:VCALENDAR
