BEGIN:VCALENDAR
VERSION:2.0
BEGIN:VEVENT
UID:5E5AA991-11C4-4D8E-B686-6A91C378C0B8
DTSTART:20231023T110000Z
DTEND:20231023T130000Z
SUMMARY:Bryan's House 2023 Awards Luncheon
DESCRIPTION:Celebrating Its 35 th Year! Bryan’s House The Power of You 2023
  Awards Luncheon Chairs Announces Awards Recipients and Mickey Rowe as the
  Featured Speaker \n Regina Bruce and Dr. Carla Russo\, chairs of The Powe
 r of You 2023 Awards Luncheon benefiting Bryan’s House\, have just confirm
 ed Mickey Rowe\, author of Fearlessly Different: An Autistic Broadway Acto
 r’s Transformational Insights \, an autistic and legally blind person and
  founder of the National Disability Theatre\, as the featured speaker at t
 he October 23 rd luncheon at the Dallas Country Club.          In more exc
 iting news\, the luncheon\, subtitled “Extraordinary things happen when ki
 ds with special needs are given wings to fly” presented by the Lone Star M
 onarchs\, welcomes Hoyl Financial as the title sponsor.          “That mea
 ns that 100% of each seat’s value\, whether it’s at a certain underwriting
  level or ticket sales\, will be matched by honorary chair\, Stephen Hoyl
  ’s firm\, Hoyl Financial\, so that all of those funds raised directly ben
 efit Bryan’s House\,” Regina said. “Stephen’s generosity is unmatched and
  certainly will make a great impact and a crucial difference in fundraisin
 g profits not only for the luncheon’s net profit\, but for Bryan’s House\,
  as well.”          Awards recipients in the following categories will joi
 n in a VIP reception just prior to the luncheon and include Accessibility
  Award: Santander Consumer USA\; Clinical Partner Award: Broadway Cares -
  Equity Fighting AIDS\; Community Award: Debra Villarreal\; Corporate Awar
 d: Liberty Mutual Insurance\; Philanthropist Award: Rose Family Foundation
 \; Volunteer Award: Norco Mayflower Movers.          A limited number of I
 ndividual tickets begin at $300. Individual Butterfly tickets are $500 and
  VIP Butterfly Patron tickets are $1\,000 and include varying benefits. Sp
 onsorships and underwriting begin at $2\,500 up to $25\,000 with different
  levels and benefits. Visit the website for more details:  www.bryanshouse
 .org/luncheon/ or contact Diana Tellez\, Development Manager at 214.559.39
 46 or email dtellez@bryanshouse.org \nPhotos by Danny Campbell\nDallas Cou
 ntry Club\nUnited States\n
URL:http://parkcities.bubblelife.com/community/adams_communications_public_
 relations/library/35562441/key/3511066803/Bryans_House_2023_Awards_Luncheo
 n
CREATED:20231002T213152Z
LAST-MODIFIED:20231002T213152Z
DTSTAMP:20260421T003857Z
CLASS:PUBLIC
STATUS:CONFIRMED
TRANSP:TRANSPARENT
SEQUENCE:1
END:VEVENT
END:VCALENDAR
